{"text_format":"2","workbook":"xlsx","n_sheets":3,"sheets":["Results","Leader Board","Raw Data"],"not_rendered":{"charts":0,"images":1,"macros":0,"external_links":0,"defined_names":26,"comments":0,"pivot_tables":0},"unopened":[],"bounds":{"document_bytes":16777216,"sheet_cells":100000,"run_cost":"one","rows_first":2000,"rows_last":500,"rows_between":2000,"halvings":0,"cell_chars":16384,"cell_head_chars":4096},"cells_cut":0,"cells_raw":0,"read":"whole","date_system":"1900"}

{"sheet":"Results","index":0,"n_rows":33,"n_cols":212,"rows_kept":33,"cut":false,"hidden":false,"merged":[[2,41,2,47],[2,48,2,54],[2,55,2,61],[2,97,2,103],[2,62,2,68],[1,139,1,145],[2,139,2,145],[1,118,1,124],[2,118,2,124],[1,125,1,131],[2,125,2,131],[1,132,1,138],[2,132,2,138],[1,104,1,110],[2,6,2,12],[2,13,2,19],[2,20,2,26],[2,27,2,33],[2,34,2,40],[1,69,1,75],[1,76,1,82],[1,83,1,89],[2,104,2,110],[1,48,1,54],[1,55,1,61],[1,62,1,68],[1,97,1,103],[2,69,2,75],[2,76,2,82],[2,83,2,89],[2,90,2,96],[1,111,1,117],[2,111,2,117],[2,1,2,5],[1,27,1,33],[1,34,1,40],[1,6,1,12],[1,13,1,19],[1,20,1,26],[1,90,1,96],[1,41,1,47]]}
[null,{"$f":"4+99-COUNTIF(B5:B103,\"\")","v":33},null,{"$f":"MIN(INDIRECT(EQ1,TRUE))","v":31.67},null,{"$f":"IF($C$2<4,\"\",IF(AND($C$2>=4,$C$2<15),1,2))","v":1},{"$f":"MIN(G5:G103)","v":38.700000000000003},null,null,{"$f":"ADDRESS(B1,COLUMN()+1,4,1)","v":"K33"},null,null,{"$f":"ADDRESS(B1,COLUMN()-1,4,1)","v":"L33"},{"$f":"MIN(N5:N103)","v":42.74},null,null,{"$f":"ADDRESS(B1,COLUMN()+1,4,1)","v":"R33"},null,null,{"$f":"ADDRESS(B1,COLUMN()-1,4,1)","v":"S33"},{"$f":"MIN(U5:U103)","v":40.96},null,null,{"$f":"ADDRESS(B1,COLUMN()+1,4,1)","v":"Y33"},null,null,{"$f":"ADDRESS(B1,COLUMN()-1,4,1)","v":"Z33"},{"$f":"MIN(AB5:AB103)","v":43.29},null,null,{"$f":"ADDRESS(B1,COLUMN()+1,4,1)","v":"AF33"},null,null,{"$f":"ADDRESS(B1,COLUMN()-1,4,1)","v":"AG33"},{"$f":"MIN(AI5:AI103)","v":33.15},null,null,{"$f":"ADDRESS(B1,COLUMN()+1,4,1)","v":"AM33"},null,null,{"$f":"ADDRESS(B1,COLUMN()-1,4,1)","v":"AN33"},{"$f":"MIN(AP5:AP103)","v":36.82},null,null,{"$f":"ADDRESS(B1,COLUMN()+1,4,1)","v":"AT33"},null,null,{"$f":"ADDRESS(B1,COLUMN()-1,4,1)","v":"AU33"},{"$f":"MIN(AW5:AW103)","v":31.67},null,null,{"$f":"ADDRESS(B1,COLUMN()+1,4,1)","v":"BA33"},null,null,{"$f":"ADDRESS(B1,COLUMN()-1,4,1)","v":"BB33"},{"$f":"MIN(BD5:BD103)","v":35.130000000000003},null,null,{"$f":"ADDRESS(B1,COLUMN()+1,4,1)","v":"BH33"},null,null,{"$f":"ADDRESS(B1,COLUMN()-1,4,1)","v":"BI33"},{"$f":"MIN(BK5:BK103)","v":35.14},null,null,{"$f":"ADDRESS(B1,COLUMN()+1,4,1)","v":"BO33"},null,null,{"$f":"ADDRESS(B1,COLUMN()-1,4,1)","v":"BP33"},{"$f":"MIN(BR5:BR103)","v":38.909999999999997},null,null,{"$f":"ADDRESS(B1,COLUMN()+1,4,1)","v":"BV33"},null,null,{"$f":"ADDRESS(B1,COLUMN()-1,4,1)","v":"BW33"},{"$f":"MIN(BY5:BY103)","v":36.090000000000003},null,null,{"$f":"ADDRESS(B1,COLUMN()+1,4,1)","v":"CC33"},null,null,{"$f":"ADDRESS(B1,COLUMN()-1,4,1)","v":"CD33"},{"$f":"MIN(CF5:CF103)","v":35.36},null,null,{"$f":"ADDRESS(B1,COLUMN()+1,4,1)","v":"CJ33"},null,null,{"$f":"ADDRESS(B1,COLUMN()-1,4,1)","v":"CK33"},{"$f":"MIN(CM5:CM103)","v":40.840000000000003},null,null,{"$f":"ADDRESS(B1,COLUMN()+1,4,1)","v":"CQ33"},null,null,{"$f":"ADDRESS(B1,COLUMN()-1,4,1)","v":"CR33"},{"$f":"MIN(CT5:CT103)","v":40.32},null,null,{"$f":"ADDRESS(B1,COLUMN()+1,4,1)","v":"CX33"},null,null,{"$f":"ADDRESS(B1,COLUMN()-1,4,1)","v":"CY33"},{"$f":"MIN(DA5:DA103)","v":0},null,null,{"$f":"ADDRESS(B1,COLUMN()+1,4,1)","v":"DE33"},null,null,{"$f":"ADDRESS(B1,COLUMN()-1,4,1)","v":"DF33"},{"$f":"MIN(DH5:DH103)","v":0},null,null,{"$f":"ADDRESS(B1,COLUMN()+1,4,1)","v":"DL33"},null,null,{"$f":"ADDRESS(B1,COLUMN()-1,4,1)","v":"DM33"},{"$f":"MIN(DO5:DO103)","v":0},null,null,{"$f":"ADDRESS(B1,COLUMN()+1,4,1)","v":"DS33"},null,null,{"$f":"ADDRESS(B1,COLUMN()-1,4,1)","v":"DT33"},{"$f":"MIN(DV5:DV103)","v":0},null,null,{"$f":"ADDRESS(B1,COLUMN()+1,4,1)","v":"DZ33"},null,null,{"$f":"ADDRESS(B1,COLUMN()-1,4,1)","v":"EA33"},{"$f":"MIN(EC5:EC103)","v":0},null,null,{"$f":"ADDRESS(B1,COLUMN()+1,4,1)","v":"EG33"},null,null,{"$f":"ADDRESS(B1,COLUMN()-1,4,1)","v":"EH33"},{"$f":"MIN(EJ5:EJ103)","v":0},null,null,{"$f":"ADDRESS(B1,COLUMN()+1,4,1)","v":"EN33"},null,null,{"$f":"ADDRESS(B1,COLUMN()-1,4,1)","v":"EO33"},{"$f":"ADDRESS(ROW(),COLUMN()+1,1,TRUE)&\":\"&ADDRESS(ROW(),COLUMN()+$C$2,1,TRUE)","v":"$ER$1:$FE$1"},{"$f":"G1","v":38.700000000000003},{"$f":"N1","v":42.74},{"$f":"U1","v":40.96},{"$f":"AB1","v":43.29},{"$f":"AI1","v":33.15},{"$f":"AP1","v":36.82},{"$f":"AW1","v":31.67},{"$f":"BD1","v":35.130000000000003},{"$f":"BK1","v":35.14},{"$f":"BR1","v":38.909999999999997},{"$f":"BY1","v":36.090000000000003},{"$f":"CF1","v":35.36},{"$f":"CM1","v":40.840000000000003},{"$f":"CT1","v":40.32},{"$f":"DA1","v":0},{"$f":"DH1","v":0},{"$f":"DO1","v":0},{"$f":"DV1","v":0},{"$f":"EC1","v":0},{"$f":"EJ1","v":0},{"$nulls":21},{"$f":"ADDRESS(ROW(),COLUMN()+$C$2,1,TRUE)","v":"$GU$1"},{"$f":"'Raw Data'!D1","v":0},{"$f":"'Raw Data'!F1","v":0},{"$f":"'Raw Data'!H1","v":0},{"$f":"'Raw Data'!J1","v":1},{"$f":"'Raw Data'!L1","v":1},{"$f":"'Raw Data'!N1","v":1},{"$f":"'Raw Data'!P1","v":1},{"$f":"'Raw Data'!R1","v":1},{"$f":"'Raw Data'!T1","v":1},{"$f":"'Raw Data'!V1","v":1},{"$f":"'Raw Data'!X1","v":1},{"$f":"'Raw Data'!Z1","v":1},{"$f":"'Raw Data'!AB1","v":1},{"$f":"'Raw Data'!AD1","v":1},{"$f":"'Raw Data'!AF1","v":2},{"$f":"'Raw Data'!AH1","v":2},{"$f":"'Raw Data'!AJ1","v":2},{"$f":"'Raw Data'!AL1","v":2},{"$f":"'Raw Data'!AN1","v":2},{"$f":"'Raw Data'!AP1","v":2},null,{"$f":"ADDRESS(B1,COLUMN()-1,4,1)","v":"HB33"}]
[null,"Rounds Complete",14,null,null,null,"Round 1 ",{"$nulls":6},"Round 2 ",{"$nulls":6},"Round 3 ",{"$nulls":6},"Round 4 (1 Discard Active)",{"$nulls":6},"Round 5 (1 Discard Active)",{"$nulls":6},"Round 6 (1 Discard Active)",{"$nulls":6},"Round 7 (1 Discard Active)",{"$nulls":6},"Round 8 (1 Discard Active)",{"$nulls":6},"Round 9 (1 Discard Active)",{"$nulls":6},"Round 10 (1 Discard Active)",{"$nulls":6},"Round 11 (1 Discard Active)",{"$nulls":6},"Round 12 (1 Discard Active)",{"$nulls":6},"Round 13 (1 Discard Active)",{"$nulls":6},"Round 14 (1 Discard Active)",{"$nulls":6},"Round 15 (2 Discards Active)",{"$nulls":6},"Round 16 (2 Discards Active)",{"$nulls":6},"Round 17 (2 Discards Active)",{"$nulls":6},"Round 18 (2 Discards Active)",{"$nulls":6},"Round 19 (2 Discards Active)",{"$nulls":6},"Round 20 (2 Discards Active)",{"$nulls":7},"Mark Redsell","Joel West","Aleix Ingles Elias","David Rumble","Joel West","Frits Donker Duyvis","Joel West","Joel West","Joel West","Les Wood","Joel West","Joel West","Stefan Bernardy","Mark Treble",{"$error":"#N/A"},{"$error":"#N/A"},{"$error":"#N/A"},{"$error":"#N/A"},{"$error":"#N/A"},{"$error":"#N/A"}]
[null,"Fastest Time of the day 31.67 by Joel West",{"$nulls":4},"Fastest Time 38.70 by Mark Redsell",{"$nulls":6},"Fastest Time 42.74 by Joel West",{"$nulls":6},"Fastest Time 40.96 by Aleix Ingles Elias",{"$nulls":6},"Fastest Time 43.29 by David Rumble",{"$nulls":6},"Fastest Time 33.15 by Joel West",{"$nulls":6},"Fastest Time 36.82 by Frits Donker Duyvis",{"$nulls":6},"Fastest Time 31.67 by Joel West",{"$nulls":6},"Fastest Time 35.13 by Joel West",{"$nulls":6},"Fastest Time 35.14 by Joel West",{"$nulls":6},"Fastest Time 38.91 by Les Wood",{"$nulls":6},"Fastest Time 36.09 by Joel West",{"$nulls":6},"Fastest Time 35.36 by Joel West",{"$nulls":6},"Fastest Time 40.84 by Stefan Bernardy",{"$nulls":6},"Fastest Time 40.32 by Mark Treble",{"$nulls":6},"",{"$nulls":6},"",{"$nulls":6},"",{"$nulls":6},"",{"$nulls":6},"",{"$nulls":6},""]
["Number","Pilots Name","Frequency","Total Score","Rank","Discard Rounds","Time","Penalty","FAI","Rank in Round 1","Work Total Rd 1","FAI Subtotal","Rank to Round 1","Time","Penalty","FAI","Rank in Round 2","Work Total Rd 2","FAI Subtotal","Rank to Round 2","Time","Penalty","FAI","Rank in Round 3","Work Total Rd 3","FAI Subtotal","Rank to Round 3","Time","Penalty","FAI","Rank in Round 4","Work Total Rd 4","FAI Subtotal","Rank to Round 4","Time","Penalty","FAI","Rank in Round 5","Work Total Rd 5","FAI Subtotal","Rank to Round 5","Time","Penalty","FAI","Rank in Round 6","Work Total Rd 6","FAI Subtotal","Rank to Round 6","Time","Penalty","FAI","Rank in Round 7","Work Total Rd 7","FAI Subtotal","Rank to Round 7","Time","Penalty","FAI","Rank in Round 8","Work Total Rd 8","FAI Subtotal","Rank to Round 8","Time","Penalty","FAI","Rank in Round 9","Work Total Rd 9","FAI Subtotal","Rank to Round 9","Time","Penalty","FAI","Rank in Round 10","Work Total Rd 10","FAI Subtotal","Rank to Round 10","Time","Penalty","FAI","Rank in Round 11","Work Total Rd 11","FAI Subtotal","Rank to Round 11","Time","Penalty","FAI","Rank in Round 12","Work Total Rd 12","FAI Subtotal","Rank to Round 12","Time","Penalty","FAI","Rank in Round 13","Work Total Rd 13","FAI Subtotal","Rank to Round 13","Time","Penalty","FAI","Rank in Round 14","Work Total Rd 14","FAI Subtotal","Rank to Round 14","Time","Penalty","FAI","Rank in Round 15","Work Total Rd 15","FAI Subtotal","Rank to Round 15","Time","Penalty","FAI","Rank in Round 16","Work Total Rd 16","FAI Subtotal","Rank to Round 16","Time","Penalty","FAI","Rank in Round 17","Work Total Rd 17","FAI Subtotal","Rank to Round 17","Time","Penalty","FAI","Rank in Round 18","Work Total Rd 18","FAI Subtotal","Rank to Round 18","Time","Penalty","FAI","Rank in Round 19","Work Total Rd 19","FAI Subtotal","Rank to Round 19","Time","Penalty","FAI","Rank in Round 20","Work Total Rd 20","FAI Subtotal","Rank to Round 20","Score Range","R1 Score","R2 Score","R3 Score","R4 Score","R5 Score","R6 Score","R7 Score","R8 Score","R9 Score","R10 Score","R11 Score","R12 Score","R13 Score","R14 Score","R15 Score","R16 Score","R17 Score","R18 Score","R19 Score","R20 Score","Penalties Range","R1 Penalties","R2 Penalties","R3 Penalties","R4 Penalties","R5 Penalties","R6 Penalties","R7 Penalties","R8 Penalties","R9 Penalties","R10 Penalties","R11 Penalties","R12 Penalties","R13 Penalties","R14 Penalties","R15 Penalties","R16 Penalties","R17 Penalties","R18 Penalties","R19 Penalties","R20 Penalties","Discard Total Cell","Discard Value","Discard Value","Discard Value","Discard Value","Discard Value","Discard Value","Discard Value","Discard Value","Discard Value","Discard Value","Discard Value","Discard Value","Discard Value","Discard Value","Discard Value","Discard Value","Discard Value","Discard Value","Discard Value","Discard Value","Total","Rank","Discard Rounds"]
[1,"Frits Donker Duyvis",0,10800.95,11,"7",51.88,"",745.95,19,745.95,745.95,19,57.16,"",747.72,22,747.72,1493.67,19,54.11,"",756.97,25,756.97,2250.64,25,47.33,"",914.64,6,914.64,2419.33,25,36.39,"",910.96,4,910.96,3330.29,17,36.82,"",1000,1,1000,4330.29,8,47.42,"",667.86,25,667.86,5076.24,12,41.88,"",838.82,9,838.82,5915.06,10,42.36,"",829.55,11,829.55,6744.61,10,45.58,"",853.66,15,853.66,7598.27,11,42.91,"",841.06,6,841.06,8439.33,10,49.01,"",721.48,12,721.48,9160.81,11,50.71,"",805.36,15,805.36,9966.17,11,48.3,"",834.78,8,834.78,10800.95,11,"","","","","","","","","","","","","","","","","","","","","","","","","","","","","","","","","","","","","","","","","","","$ER$5:$FE$5",745.95,747.72,756.97,914.64,910.96,1000,667.86,838.82,829.55,853.66,841.06,721.48,805.36,834.78,0,0,0,0,0,0,"$FM$5:$FZ$5",0,0,0,0,0,0,0,0,0,0,0,0,0,0,0,0,0,0,0,0,"GU5",0,0,0,745.95,745.95,745.95,667.86,667.86,667.86,667.86,667.86,667.86,667.86,667.86,667.86,0,0,0,0,0,10800.95,11,"7"]
[2,"Peter Gunning",0,10749.74,13,"2",50.43,"",767.4,16,767.4,767.4,16,59.6,"",717.11,26,717.11,1484.51,21,49.43,"",828.64,13,828.64,2313.15,19,48.24,"",897.38,11,897.38,2493.42,21,41.4,"",800.72,14,800.72,3294.14,21,42.1,"",874.58,14,874.58,4168.72,17,38.380000000000003,"",825.16,4,825.16,4993.88,16,45.56,"",771.07,16,771.07,5764.95,16,42.7,"",822.95,14,822.95,6587.9,17,42.34,"",918.98,9,918.98,7506.88,15,43.86,"",822.84,9,822.84,8329.7199999999993,14,47,"",752.34,8,752.34,9082.06,14,51.62,"",791.16,19,791.16,9873.2199999999993,14,46,"",876.52,6,876.52,10749.74,13,"","","","","","","","","","","","","","","","","","","","","","","","","","","","","","","","","","","","","","","","","","","$ER$6:$FE$6",767.4,717.11,828.64,897.38,800.72,874.58,825.16,771.07,822.95,918.98,822.84,752.34,791.16,876.52,0,0,0,0,0,0,"$FM$6:$FZ$6",0,0,0,0,0,0,0,0,0,0,0,0,0,0,0,0,0,0,0,0,"GU6",0,0,0,717.11,717.11,717.11,717.11,717.11,717.11,717.11,717.11,717.11,717.11,717.11,717.11,0,0,0,0,0,10749.74,13,"2"]
[3,"Jon Edison",0,9695.09,27,"12",58.95,"",656.48,24,656.48,656.48,24,60.66,"",704.58,27,704.58,1361.06,28,50.13,"",817.07,15,817.07,2178.13,27,47.76,"",906.4,8,906.4,2428.0500000000002,23,44.6,"",743.27,24,743.27,3171.32,26,49.21,"",748.22,24,748.22,3919.54,27,39.03,"",811.42,6,811.42,4730.96,26,48.44,"",725.22,23,725.22,5456.18,27,48.34,"",726.93,22,726.93,6183.11,26,57.93,"",671.67,27,671.67,6854.78,27,56.61,"",637.51,27,637.51,7511.26,27,58.42,"",605.27,26,605.27,8148.77,27,53.18,"",767.95,22,767.95,8916.7199999999993,27,51.8,"",778.37,18,778.37,9695.09,27,"","","","","","","","","","","","","","","","","","","","","","","","","","","","","","","","","","","","","","","","","","","$ER$7:$FE$7",656.48,704.58,817.07,906.4,743.27,748.22,811.42,725.22,726.93,671.67,637.51,605.27,767.95,778.37,0,0,0,0,0,0,"$FM$7:$FZ$7",0,0,0,0,0,0,0,0,0,0,0,0,0,0,0,0,0,0,0,0,"GU7",0,0,0,656.48,656.48,656.48,656.48,656.48,656.48,656.48,637.51,605.27,605.27,605.27,605.27,0,0,0,0,0,9695.09,27,"12"]
[4,"Mark Treble",0,10934.86,8,"12",50.68,"",763.61,17,763.61,763.61,17,62.66,"",682.09,29,682.09,1445.7,24,49.27,"",831.33,12,831.33,2277.0300000000002,22,46.81,"",924.8,3,924.8,2519.7399999999998,19,41.08,"",806.96,13,806.96,3326.7,18,41.3,"",891.52,10,891.52,4218.22,15,39.89,"",793.93,8,793.93,5012.1499999999996,15,46.91,"",748.88,20,748.88,5761.03,17,36.71,"",957.23,3,957.23,6718.26,12,43.59,"",892.63,13,892.63,7610.89,10,43.11,"",837.16,8,837.16,8448.0499999999993,9,54,"",654.80999999999995,22,654.80999999999995,9130.14,12,50.75,"",804.72,17,804.72,9934.86,12,40.32,"",1000,1,1000,10934.86,8,"","","","","","","","","","","","","","","","","","","","","","","","","","","","","","","","","","","","","","","","","","","$ER$8:$FE$8",763.61,682.09,831.33,924.8,806.96,891.52,793.93,748.88,957.23,892.63,837.16,654.80999999999995,804.72,1000,0,0,0,0,0,0,"$FM$8:$FZ$8",0,0,0,0,0,0,0,0,0,0,0,0,0,0,0,0,0,0,0,0,"GU8",0,0,0,682.09,682.09,682.09,682.09,682.09,682.09,682.09,682.09,654.80999999999995,654.80999999999995,654.80999999999995,654.80999999999995,0,0,0,0,0,10934.86,8,"12"]
[5,"David Rumble",0,10191.530000000001,23,"14",48.38,"",799.91,11,799.91,799.91,11,57.4,"",744.59,23,744.59,1544.5,15,53.28,"",768.76,23,768.76,2313.2600000000002,18,43.29,"",1000,1,1000,2568.67,12,48.16,"",688.33,27,688.33,3313.26,19,44.36,"",830.02,21,830.02,4143.28,19,43.89,"",721.57,16,721.57,4864.8500000000004,19,46.92,"",748.72,21,748.72,5613.57,20,41.94,"",837.86,8,837.86,6451.43,21,56.44,"",689.4,25,689.4,7140.83,23,50.96,"",708.2,25,708.2,7849.03,23,52.4,"",674.8,18,674.8,8537.36,23,41.7,"",979.37,2,979.37,9516.73,22,61.9,"",651.37,27,651.37,10191.530000000001,23,"","","","","","","","","","","","","","","","","","","","","","","","","","","","","","","","","","","","","","","","","","","$ER$9:$FE$9",799.91,744.59,768.76,1000,688.33,830.02,721.57,748.72,837.86,689.4,708.2,674.8,979.37,651.37,0,0,0,0,0,0,"$FM$9:$FZ$9",0,0,0,0,0,0,0,0,0,0,0,0,0,0,0,0,0,0,0,0,"GU9",0,0,0,744.59,688.33,688.33,688.33,688.33,688.33,688.33,688.33,674.8,674.8,651.37,651.37,0,0,0,0,0,10191.530000000001,23,"14"]
[6,"Mark Passingham",0,10540.71,16,"13",47.58,"",813.36,5,813.36,813.36,5,54.28,"",787.39,17,787.39,1600.75,12,50.29,"",814.47,17,814.47,2415.2199999999998,11,48.56,"",891.47,14,891.47,2519.3000000000002,20,38.61,"",858.58,8,858.58,3377.88,12,39.54,"",931.2,8,931.2,4309.08,11,39.270000000000003,"",806.46,7,806.46,5115.54,9,43.89,"",800.41,14,800.41,5915.95,9,41.96,"",837.46,9,837.46,6753.41,8,53.83,"",722.83,24,722.83,7540.8,12,48.4,"",745.66,20,745.66,8286.4599999999991,15,46.15,"",766.19,6,766.19,9052.65,15,62.65,"",651.87,27,651.87,9775.48,16,52.69,"",765.23,21,765.23,10540.71,16,"","","","","","","","","","","","","","","","","","","","","","","","","","","","","","","","","","","","","","","","","","","$ER$10:$FE$10",813.36,787.39,814.47,891.47,858.58,931.2,806.46,800.41,837.46,722.83,745.66,766.19,651.87,765.23,0,0,0,0,0,0,"$FM$10:$FZ$10",0,0,0,0,0,0,0,0,0,0,0,0,0,0,0,0,0,0,0,0,"GU10",0,0,0,787.39,787.39,787.39,787.39,787.39,787.39,722.83,722.83,722.83,651.87,651.87,651.87,0,0,0,0,0,10540.71,16,"13"]
[7,"William Fourie",0,10530.67,17,"7",49.01,"",789.63,13,789.63,789.63,13,57.42,"",744.33,24,744.33,1533.96,16,54.81,"",747.3,27,747.3,2281.2600000000002,21,51.2,"",845.5,23,845.5,2382.4299999999998,27,41.75,"",794.01,17,794.01,3176.44,25,37.39,"",984.75,2,984.75,4161.1899999999996,18,44.22,"",716.19,17,716.19,4905.5200000000004,18,40.17,"",874.53,5,874.53,5780.05,15,42.44,"",827.99,12,827.99,6608.04,15,46.85,"",830.52,17,830.52,7438.56,17,47.84,"",754.38,18,754.38,8192.94,17,46.51,"",760.26,7,760.26,8953.2000000000007,17,51.35,"",795.32,18,795.32,9748.52,17,51.55,"",782.15,17,782.15,10530.67,17,"","","","","","","","","","","","","","","","","","","","","","","","","","","","","","","","","","","","","","","","","","","$ER$11:$FE$11",789.63,744.33,747.3,845.5,794.01,984.75,716.19,874.53,827.99,830.52,754.38,760.26,795.32,782.15,0,0,0,0,0,0,"$FM$11:$FZ$11",0,0,0,0,0,0,0,0,0,0,0,0,0,0,0,0,0,0,0,0,"GU11",0,0,0,744.33,744.33,744.33,716.19,716.19,716.19,716.19,716.19,716.19,716.19,716.19,716.19,0,0,0,0,0,10530.67,17,"7"]
[8,"Ian Mason",0,10148.540000000001,24,"7",49.18,"",786.9,14,786.9,786.9,14,58.71,"",727.98,25,727.98,1514.88,18,50.03,"",818.7,14,818.7,2333.58,16,53.02,"",816.48,27,816.48,2422.08,24,47.96,"",691.2,26,691.2,3150.06,28,41.65,"",884.03,11,884.03,4034.09,25,48.4,"",654.33000000000004,26,654.33000000000004,4725.29,27,44.45,"",790.32,15,790.32,5515.61,25,42.01,"",836.46,10,836.46,6352.07,22,56.64,"",686.97,26,686.97,7039.04,25,48.3,"",747.2,19,747.2,7786.24,25,48.34,"",731.48,10,731.48,8517.7199999999993,24,50.41,"",810.15,14,810.15,9327.8700000000008,24,49.13,"",820.67,10,820.67,10148.540000000001,24,"","","","","","","","","","","","","","","","","","","","","","","","","","","","","","","","","","","","","","","","","","","$ER$12:$FE$12",786.9,727.98,818.7,816.48,691.2,884.03,654.33000000000004,790.32,836.46,686.97,747.2,731.48,810.15,820.67,0,0,0,0,0,0,"$FM$12:$FZ$12",0,0,0,0,0,0,0,0,0,0,0,0,0,0,0,0,0,0,0,0,"GU12",0,0,0,727.98,691.2,691.2,654.33000000000004,654.33000000000004,654.33000000000004,654.33000000000004,654.33000000000004,654.33000000000004,654.33000000000004,654.33000000000004,654.33000000000004,0,0,0,0,0,10148.540000000001,24,"7"]
[9,"Arjen Van Vark",0,10649.97,14,"9",45.12,"",857.71,3,857.71,857.71,3,55.8,"",765.94,21,765.94,1623.65,10,50.37,"",813.18,18,813.18,2436.83,9,50.46,"",857.9,22,857.9,2528.79,17,40.950000000000003,"",809.52,12,809.52,3338.31,14,40.380000000000003,"",911.83,9,911.83,4250.1400000000003,13,35.78,"",885.13,2,885.13,5135.2700000000004,7,48.89,"",718.55,25,718.55,5901.21,11,49.69,"",707.18,26,707.18,6619.76,14,43.58,"",892.84,12,892.84,7512.6,13,42.82,"",842.83,5,842.83,8355.43,13,48.21,"",733.45,9,733.45,9088.8799999999992,13,55.17,"",740.25,23,740.25,9829.1299999999992,15,49.12,"",820.84,9,820.84,10649.97,14,"","","","","","","","","","","","","","","","","","","","","","","","","","","","","","","","","","","","","","","","","","","$ER$13:$FE$13",857.71,765.94,813.18,857.9,809.52,911.83,885.13,718.55,707.18,892.84,842.83,733.45,740.25,820.84,0,0,0,0,0,0,"$FM$13:$FZ$13",0,0,0,0,0,0,0,0,0,0,0,0,0,0,0,0,0,0,0,0,"GU13",0,0,0,765.94,765.94,765.94,765.94,718.55,707.18,707.18,707.18,707.18,707.18,707.18,707.18,0,0,0,0,0,10649.97,14,"9"]
[10,"Stefan Bertschi",0,11254.6,3,"12",44.92,"",861.53,2,861.53,861.53,2,55.16,"",774.83,20,774.83,1636.36,9,48.24,"",849.08,10,849.08,2485.44,6,48.09,"",900.18,10,900.18,2610.79,6,37.11,"",893.29,5,893.29,3504.08,5,38.909999999999997,"",946.28,6,946.28,4450.3599999999997,5,40.94,"",773.57,11,773.57,5225.1899999999996,5,39.64,"",886.22,3,886.22,6111.41,5,41.49,"",846.95,7,846.95,6958.36,4,39.29,"",990.32,2,990.32,7948.68,4,43.87,"",822.65,10,822.65,8771.33,3,50.12,"",705.5,16,705.5,9544.9,3,49.45,"",825.88,12,825.88,10370.780000000001,3,45.62,"",883.82,5,883.82,11254.6,3,"","","","","","","","","","","","","","","","","","","","","","","","","","","","","","","","","","","","","","","","","","","$ER$14:$FE$14",861.53,774.83,849.08,900.18,893.29,946.28,773.57,886.22,846.95,990.32,822.65,705.5,825.88,883.82,0,0,0,0,0,0,"$FM$14:$FZ$14",0,0,0,0,0,0,0,0,0,0,0,0,0,0,0,0,0,0,0,0,"GU14",0,0,0,774.83,774.83,774.83,773.57,773.57,773.57,773.57,773.57,705.5,705.5,705.5,705.5,0,0,0,0,0,11254.6,3,"12"]
[11,"Peter Lemans",0,10398.969999999999,18,"12",48.74,"",794,12,794,794,12,62.23,"",686.8,28,686.8,1480.8,22,51.48,"",795.64,20,795.64,2276.44,23,49.81,"",869.1,19,869.1,2458.7399999999998,22,43.93,"",754.6,23,754.6,3213.34,24,43.41,"",848.19,19,848.19,4061.53,24,41.8,"",757.65,13,757.65,4819.18,21,39.68,"",885.33,4,885.33,5704.51,19,44.51,"",789.48,18,789.48,6493.99,18,49.43,"",787.17,21,787.17,7281.16,20,50.74,"",711.27,24,711.27,7992.43,21,53.08,"",666.16,19,666.16,8679.23,21,44.81,"",911.4,4,911.4,9590.6299999999992,20,49.88,"",808.34,13,808.34,10398.969999999999,18,"","","","","","","","","","","","","","","","","","","","","","","","","","","","","","","","","","","","","","","","","","","$ER$15:$FE$15",794,686.8,795.64,869.1,754.6,848.19,757.65,885.33,789.48,787.17,711.27,666.16,911.4,808.34,0,0,0,0,0,0,"$FM$15:$FZ$15",0,0,0,0,0,0,0,0,0,0,0,0,0,0,0,0,0,0,0,0,"GU15",0,0,0,686.8,686.8,686.8,686.8,686.8,686.8,686.8,686.8,666.16,666.16,666.16,666.16,0,0,0,0,0,10398.969999999999,18,"12"]
[12,"Graeme Mahoney",0,10925.77,9,"7",47.98,"",806.58,8,806.58,806.58,8,51.47,"",830.38,12,830.38,1636.96,8,45.54,"",899.42,6,899.42,2536.38,5,45.4,"",953.52,2,953.52,2683.32,5,43.71,"",758.4,22,758.4,3489.9,6,42.42,"",867.98,17,867.98,4357.88,7,44.95,"",704.56,21,704.56,5116.28,8,43.55,"",806.65,12,806.65,5922.93,8,40.47,"",868.29,6,868.29,6791.22,7,43.12,"",902.36,11,902.36,7693.58,6,40.840000000000003,"",883.69,2,883.69,8577.27,6,49.85,"",709.32,15,709.32,9286.59,7,49.27,"",828.9,11,828.9,10115.49,7,49.76,"",810.28,12,810.28,10925.77,9,"","","","","","","","","","","","","","","","","","","","","","","","","","","","","","","","","","","","","","","","","","","$ER$16:$FE$16",806.58,830.38,899.42,953.52,758.4,867.98,704.56,806.65,868.29,902.36,883.69,709.32,828.9,810.28,0,0,0,0,0,0,"$FM$16:$FZ$16",0,0,0,0,0,0,0,0,0,0,0,0,0,0,0,0,0,0,0,0,"GU16",0,0,0,806.58,758.4,758.4,704.56,704.56,704.56,704.56,704.56,704.56,704.56,704.56,704.56,0,0,0,0,0,10925.77,9,"7"]
[13,"Mike Shellim",0,10758.82,12,"3",47.07,"",822.17,4,822.17,822.17,4,51.11,"",836.23,11,836.23,1658.4,5,55.39,"",739.48,28,739.48,2397.88,12,48.4,"",894.42,12,894.42,2552.8200000000002,14,37.65,"",880.47,6,880.47,3433.29,9,41.8,"",880.86,12,880.86,4314.1499999999996,10,36.29,"",872.69,3,872.69,5186.84,6,42.12,"",834.04,10,834.04,6020.88,6,42.46,"",827.6,13,827.6,6848.48,6,50.3,"",773.55,22,773.55,7622.03,9,47.77,"",755.49,17,755.49,8377.52,11,42.51,"",831.8,2,831.8,9209.32,8,50.73,"",805.04,16,805.04,10014.36,10,54.16,"",744.46,22,744.46,10758.82,12,"","","","","","","","","","","","","","","","","","","","","","","","","","","","","","","","","","","","","","","","","","","$ER$17:$FE$17",822.17,836.23,739.48,894.42,880.47,880.86,872.69,834.04,827.6,773.55,755.49,831.8,805.04,744.46,0,0,0,0,0,0,"$FM$17:$FZ$17",0,0,0,0,0,0,0,0,0,0,0,0,0,0,0,0,0,0,0,0,"GU17",0,0,0,739.48,739.48,739.48,739.48,739.48,739.48,739.48,739.48,739.48,739.48,739.48,739.48,0,0,0,0,0,10758.82,12,"3"]
[14,"Kevin Newton",0,10959.05,7,"12",47.96,"",806.92,7,806.92,806.92,7,53.73,"",795.45,15,795.45,1602.37,11,51.64,"",793.18,21,793.18,2395.5500000000002,13,46.88,"",923.42,4,923.42,2525.79,18,39.58,"",837.54,9,837.54,3363.33,13,38.54,"",955.37,5,955.37,4318.7,9,43.35,"",730.56,15,730.56,5111.88,10,42.25,"",831.47,11,831.47,5943.35,7,43.41,"",809.49,15,809.49,6752.84,9,41.82,"",930.41,7,930.41,7683.25,7,45.81,"",787.81,12,787.81,8471.06,8,54.36,"",650.47,23,650.47,9201.6200000000008,9,47.72,"",855.82,8,855.82,10057.44,9,44.72,"",901.61,3,901.61,10959.05,7,"","","","","","","","","","","","","","","","","","","","","","","","","","","","","","","","","","","","","","","","","","","$ER$18:$FE$18",806.92,795.45,793.18,923.42,837.54,955.37,730.56,831.47,809.49,930.41,787.81,650.47,855.82,901.61,0,0,0,0,0,0,"$FM$18:$FZ$18",0,0,0,0,0,0,0,0,0,0,0,0,0,0,0,0,0,0,0,0,"GU18",0,0,0,793.18,793.18,793.18,730.56,730.56,730.56,730.56,730.56,650.47,650.47,650.47,650.47,0,0,0,0,0,10959.05,7,"12"]
[15,"Greg Dakin",0,11208.97,4,"12",47.91,"",807.76,6,807.76,807.76,6,47.63,"",897.33,3,897.33,1705.09,2,44.8,"",914.28,5,914.28,2619.37,3,46.88,"",923.42,4,923.42,2735.03,4,41.8,"",793.06,19,793.06,3542.79,4,38.299999999999997,"",961.35,4,961.35,4504.1400000000003,4,43.3,"",731.4,14,731.4,5297.2,4,41.56,"",845.28,8,845.28,6142.48,4,47.02,"",747.34,20,747.34,6889.82,5,41.93,"",927.97,8,927.97,7817.79,5,42.93,"",840.67,7,840.67,8658.4599999999991,5,48.45,"",729.82,11,729.82,9389.86,5,44.6,"",915.69,3,915.69,10305.549999999999,4,44.63,"",903.42,2,903.42,11208.97,4,"","","","","","","","","","","","","","","","","","","","","","","","","","","","","","","","","","","","","","","","","","","$ER$19:$FE$19",807.76,897.33,914.28,923.42,793.06,961.35,731.4,845.28,747.34,927.97,840.67,729.82,915.69,903.42,0,0,0,0,0,0,"$FM$19:$FZ$19",0,0,0,0,0,0,0,0,0,0,0,0,0,0,0,0,0,0,0,0,"GU19",0,0,0,807.76,793.06,793.06,731.4,731.4,731.4,731.4,731.4,729.82,729.82,729.82,729.82,0,0,0,0,0,11208.97,4,"12"]
[16,"Erik Heijne",0,10813.57,10,"12",50,"",774,15,774,774,15,49.17,"",869.22,8,869.22,1643.22,7,50.22,"",815.61,16,815.61,2458.83,7,50.32,"",860.29,21,860.29,2545.12,15,42,"",789.28,20,789.28,3334.4,16,42.19,"",872.71,16,872.71,4207.1099999999997,16,38.94,"",813.3,5,813.3,5020.41,14,40.869999999999997,"",859.55,7,859.55,5879.96,13,43.42,"",809.3,16,809.3,6689.26,13,40.08,"",970.8,4,970.8,7660.06,8,41.8,"",863.39,3,863.39,8523.4500000000007,7,50.95,"",694.01,17,694.01,9297.4500000000007,6,52.48,"",778.2,20,778.2,10075.65,8,54.64,"",737.92,23,737.92,10813.57,10,"","","","","","","","","","","","","","","","","","","","","","","","","","","","","","","","","","","","","","","","","","","$ER$20:$FE$20",774,869.22,815.61,860.29,789.28,872.71,813.3,859.55,809.3,970.8,863.39,694.01,778.2,737.92,0,0,0,0,0,0,"$FM$20:$FZ$20",0,0,0,0,0,0,0,0,0,0,0,0,0,0,0,0,0,0,0,0,"GU20",0,0,0,774,774,774,774,774,774,774,774,694.01,694.01,694.01,694.01,0,0,0,0,0,10813.57,10,"12"]
[17,"Bruce Hudson",0,9911.98,25,"1",60.3,"",641.79,25,641.79,641.79,25,54.38,"",785.95,18,785.95,1427.74,26,44.09,"",929,4,929,2356.7399999999998,15,51.25,"",844.68,24,844.68,2559.63,13,44.7,"",741.61,25,741.61,3301.24,20,45.41,"",810.83,23,810.83,4112.07,21,45.37,"",698.03,22,698.03,4810.1000000000004,22,49.01,"",716.79,26,716.79,5526.89,23,48.5,"",724.53,23,724.53,6251.42,25,48.91,"",795.54,20,795.54,7046.96,24,45.99,"",784.73,14,784.73,7831.69,24,53.26,"",663.91,20,663.91,8495.6,25,58.25,"",701.11,25,701.11,9196.7099999999991,25,56.37,"",715.27,25,715.27,9911.98,25,"","","","","","","","","","","","","","","","","","","","","","","","","","","","","","","","","","","","","","","","","","","$ER$21:$FE$21",641.79,785.95,929,844.68,741.61,810.83,698.03,716.79,724.53,795.54,784.73,663.91,701.11,715.27,0,0,0,0,0,0,"$FM$21:$FZ$21",0,0,0,0,0,0,0,0,0,0,0,0,0,0,0,0,0,0,0,0,"GU21",0,0,0,641.79,641.79,641.79,641.79,641.79,641.79,641.79,641.79,641.79,641.79,641.79,641.79,0,0,0,0,0,9911.98,25,"1"]
[18,"John Phillips",0,3293.01,28,"5",55.76,"",694.04,22,694.04,694.04,22,48.7,"",877.61,6,877.61,1571.65,14,48.06,"",852.26,9,852.26,2423.91,10,49.81,"",869.1,19,869.1,2598.9699999999998,8,"","","","","",3293.01,22,"","","","","",3293.01,28,"","","","","",3293.01,28,"","","","","",3293.01,28,"","","","","",3293.01,28,"","","","","",3293.01,28,"","","","","",3293.01,28,"","","","","",3293.01,28,"","","","","",3293.01,28,"","","","","",3293.01,28,"","","","","","","","","","","","","","","","","","","","","","","","","","","","","","","","","","","","","","","","","","","$ER$22:$FE$22",694.04,877.61,852.26,869.1,0,0,0,0,0,0,0,0,0,0,0,0,0,0,0,0,"$FM$22:$FZ$22",0,0,0,0,0,0,0,0,0,0,0,0,0,0,0,0,0,0,0,0,"GU22",0,0,0,694.04,0,0,0,0,0,0,0,0,0,0,0,0,0,0,0,0,3293.01,28,"5"]
[19,"Paul Stubley",0,10328.950000000001,21,"1",60.86,"",635.88,27,635.88,635.88,27,54.53,"",783.78,19,783.78,1419.66,27,51.85,"",789.97,22,789.97,2209.63,26,52.09,"",831.06,26,831.06,2404.81,26,40.409999999999997,"",820.34,10,820.34,3225.15,23,43.07,"",854.88,18,854.88,4080.03,22,44.39,"",713.44,18,713.44,4793.47,23,48.6,"",722.83,24,722.83,5516.3,24,36.57,"",960.89,2,960.89,6477.19,20,46.57,"",835.51,16,835.51,7312.7,18,46.08,"",783.2,15,783.2,8095.9,18,45,"",785.77,5,785.77,8881.67,18,55.83,"",731.5,24,731.5,9613.17,18,56.33,"",715.78,24,715.78,10328.950000000001,21,"","","","","","","","","","","","","","","","","","","","","","","","","","","","","","","","","","","","","","","","","","","$ER$23:$FE$23",635.88,783.78,789.97,831.06,820.34,854.88,713.44,722.83,960.89,835.51,783.2,785.77,731.5,715.78,0,0,0,0,0,0,"$FM$23:$FZ$23",0,0,0,0,0,0,0,0,0,0,0,0,0,0,0,0,0,0,0,0,"GU23",0,0,0,635.88,635.88,635.88,635.88,635.88,635.88,635.88,635.88,635.88,635.88,635.88,635.88,0,0,0,0,0,10328.950000000001,21,"1"]
[20,"Joel West",0,12563.32,1,"1","","","","",0,0,29,42.74,"",1000,1,1000,1000,29,43.15,"",949.24,3,949.24,1949.24,29,48.56,"",891.47,14,891.47,2840.71,1,33.15,"",1000,1,1000,3840.71,1,37.909999999999997,"",971.24,3,971.24,4811.95,1,31.67,"",1000,1,1000,5811.95,1,35.130000000000003,"",1000,1,1000,6811.95,1,35.14,"",1000,1,1000,7811.95,1,39.78,"",978.12,3,978.12,8790.07,1,36.090000000000003,"",1000,1,1000,9790.07,1,35.36,"",1000,1,1000,10790.07,1,46.48,"",878.65,7,878.65,11668.72,1,45.07,"",894.6,4,894.6,12563.32,1,"","","","","","","","","","","","","","","","","","","","","","","","","","","","","","","","","","","","","","","","","","","$ER$24:$FE$24",0,1000,949.24,891.47,1000,971.24,1000,1000,1000,978.12,1000,1000,878.65,894.6,0,0,0,0,0,0,"$FM$24:$FZ$24",0,0,0,0,0,0,0,0,0,0,0,0,0,0,0,0,0,0,0,0,"GU24",0,0,0,0,0,0,0,0,0,0,0,0,0,0,0,0,0,0,0,0,12563.32,1,"1"]
[21,"Aleix Ingles Elias",0,11065.74,5,"12",51.39,"",753.06,18,753.06,753.06,18,47.69,"",896.2,4,896.2,1649.26,6,40.96,"",1000,1,1000,2649.26,2,47.76,"",906.4,8,906.4,2802.6,3,35.14,"",943.36,2,943.36,3745.96,2,44,"",836.81,20,836.81,4582.7700000000004,2,41.08,"",770.93,12,770.93,5353.7,3,40.31,"",871.49,6,871.49,6225.19,3,43.91,"",800.27,17,800.27,7025.46,3,41.24,"",943.5,6,943.5,7968.96,3,47.61,"",758.03,16,758.03,8726.99,4,49.15,"",719.43,13,719.43,9480.0499999999993,4,52.68,"",775.24,21,775.24,10255.290000000001,5,49.75,"",810.45,11,810.45,11065.74,5,"","","","","","","","","","","","","","","","","","","","","","","","","","","","","","","","","","","","","","","","","","","$ER$25:$FE$25",753.06,896.2,1000,906.4,943.36,836.81,770.93,871.49,800.27,943.5,758.03,719.43,775.24,810.45,0,0,0,0,0,0,"$FM$25:$FZ$25",0,0,0,0,0,0,0,0,0,0,0,0,0,0,0,0,0,0,0,0,"GU25",0,0,0,753.06,753.06,753.06,753.06,753.06,753.06,753.06,753.06,719.43,719.43,719.43,719.43,0,0,0,0,0,11065.74,5,"12"]
[22,"Mark Redsell",0,11345.49,2,"11",38.700000000000003,"",1000,1,1000,1000,1,49.1,"",870.46,7,870.46,1870.46,1,42.55,"",962.63,2,962.63,2833.09,1,49.7,"",871.02,17,871.02,2833.65,2,41.58,"",797.25,15,797.25,3704.11,3,42.17,"",873.13,15,873.13,4577.24,3,40.24,"",787.02,10,787.02,5374.49,2,37.14,"",945.88,2,945.88,6320.37,2,40.39,"",870.01,5,870.01,7190.38,2,40.44,"",962.16,5,962.16,8152.54,2,50.65,"",712.53,23,712.53,8939.56,2,43.25,"",817.57,3,817.57,9757.1299999999992,2,50.18,"",813.87,13,813.87,10571,2,52.06,"",774.49,19,774.49,11345.49,2,"","","","","","","","","","","","","","","","","","","","","","","","","","","","","","","","","","","","","","","","","","","$ER$26:$FE$26",1000,870.46,962.63,871.02,797.25,873.13,787.02,945.88,870.01,962.16,712.53,817.57,813.87,774.49,0,0,0,0,0,0,"$FM$26:$FZ$26",0,0,0,0,0,0,0,0,0,0,0,0,0,0,0,0,0,0,0,0,"GU26",0,0,0,870.46,797.25,797.25,787.02,787.02,787.02,787.02,712.53,712.53,712.53,712.53,712.53,0,0,0,0,0,11345.49,2,"11"]
[23,"Dave Demott",0,9747.8799999999992,26,"12",60.73,"",637.24,26,637.24,637.24,26,51.77,"",825.57,13,825.57,1462.81,23,48.49,"",844.71,11,844.71,2307.52,20,49.78,"",869.62,18,869.62,2539.9,16,41.69,"",795.15,16,795.15,3335.05,15,49.69,"",740.99,25,740.99,4076.04,23,45.51,"",695.89,23,695.89,4771.93,25,50.85,"",690.85,27,690.85,5462.78,26,51.16,"",686.86,27,686.86,6149.64,27,48.43,"",803.42,19,803.42,6953.06,26,53.92,"",669.32,26,669.32,7622.38,26,63.13,"",560.11,27,560.11,8259.6200000000008,26,58.68,"",695.97,26,695.97,8955.59,26,50.89,"",792.29,15,792.29,9747.8799999999992,26,"","","","","","","","","","","","","","","","","","","","","","","","","","","","","","","","","","","","","","","","","","","$ER$27:$FE$27",637.24,825.57,844.71,869.62,795.15,740.99,695.89,690.85,686.86,803.42,669.32,560.11,695.97,792.29,0,0,0,0,0,0,"$FM$27:$FZ$27",0,0,0,0,0,0,0,0,0,0,0,0,0,0,0,0,0,0,0,0,"GU27",0,0,0,637.24,637.24,637.24,637.24,637.24,637.24,637.24,637.24,560.11,560.11,560.11,560.11,0,0,0,0,0,9747.8799999999992,26,"12"]
[24,"Stefan Bernardy",0,10973.93,6,"1",63.64,"",608.1,28,608.1,608.1,28,52.03,"",821.44,14,821.44,1429.54,25,46.04,"",889.66,8,889.66,2319.1999999999998,17,48.48,"",892.94,13,892.94,2604.04,7,38.31,"",865.3,7,865.3,3469.34,8,39.18,"",939.76,7,939.76,4409.1000000000004,6,47.18,"",671.25,24,671.25,5080.3500000000004,11,43.82,"",801.68,13,801.68,5882.03,12,48.81,"",719.93,24,719.93,6601.96,16,42.8,"",909.11,10,909.11,7511.07,14,42.19,"",855.41,4,855.41,8366.48,12,43.8,"",807.3,4,807.3,9173.7800000000007,10,40.840000000000003,"",1000,1,1000,10173.780000000001,6,50.39,"",800.15,14,800.15,10973.93,6,"","","","","","","","","","","","","","","","","","","","","","","","","","","","","","","","","","","","","","","","","","","$ER$28:$FE$28",608.1,821.44,889.66,892.94,865.3,939.76,671.25,801.68,719.93,909.11,855.41,807.3,1000,800.15,0,0,0,0,0,0,"$FM$28:$FZ$28",0,0,0,0,0,0,0,0,0,0,0,0,0,0,0,0,0,0,0,0,"GU28",0,0,0,608.1,608.1,608.1,608.1,608.1,608.1,608.1,608.1,608.1,608.1,608.1,608.1,0,0,0,0,0,10973.93,6,"1"]
[25,"Maria Freeman",0,3012.93,29,"5",57.56,"",672.34,23,672.34,672.34,23,50.11,"",852.92,9,852.92,1525.26,17,62.81,"",652.12,29,652.12,2177.38,28,51.81,"",835.55,25,835.55,2360.81,29,"","","","","",3012.93,29,"","","","","",3012.93,29,"","","","","",3012.93,29,"","","","","",3012.93,29,"","","","","",3012.93,29,"","","","","",3012.93,29,"","","","","",3012.93,29,"","","","","",3012.93,29,"","","","","",3012.93,29,"","","","","",3012.93,29,"","","","","","","","","","","","","","","","","","","","","","","","","","","","","","","","","","","","","","","","","","","$ER$29:$FE$29",672.34,852.92,652.12,835.55,0,0,0,0,0,0,0,0,0,0,0,0,0,0,0,0,"$FM$29:$FZ$29",0,0,0,0,0,0,0,0,0,0,0,0,0,0,0,0,0,0,0,0,"GU29",0,0,0,652.12,0,0,0,0,0,0,0,0,0,0,0,0,0,0,0,0,3012.93,29,"5"]
[26,"Phil Taylor",0,10368.52,20,"7",52.75,"",733.64,20,733.64,733.64,20,50.41,"",847.84,10,847.84,1581.48,13,50.47,"",811.57,19,811.57,2393.0500000000002,14,47.46,"",912.13,7,912.13,2571.54,11,36.18,"",916.25,3,916.25,3487.79,7,50.24,"",732.88,26,732.88,4221.43,14,52.9,"",598.66999999999996,27,598.66999999999996,4954.3100000000004,17,46.13,"",761.54,18,761.54,5715.85,18,46.06,"",762.91,19,762.91,6478.76,19,47.83,"",813.5,18,813.5,7292.26,19,49.21,"",733.38,21,733.38,8025.64,20,53.66,"",658.96,21,658.96,8684.6,20,45.38,"",899.95,6,899.95,9584.5499999999993,21,51.43,"",783.97,16,783.97,10368.52,20,"","","","","","","","","","","","","","","","","","","","","","","","","","","","","","","","","","","","","","","","","","","$ER$30:$FE$30",733.64,847.84,811.57,912.13,916.25,732.88,598.66999999999996,761.54,762.91,813.5,733.38,658.96,899.95,783.97,0,0,0,0,0,0,"$FM$30:$FZ$30",0,0,0,0,0,0,0,0,0,0,0,0,0,0,0,0,0,0,0,0,"GU30",0,0,0,733.64,733.64,732.88,598.66999999999996,598.66999999999996,598.66999999999996,598.66999999999996,598.66999999999996,598.66999999999996,598.66999999999996,598.66999999999996,598.66999999999996,0,0,0,0,0,10368.52,20,"7"]
[27,"Les Wood",0,10375.16,19,"12",55.7,"",694.79,21,694.79,694.79,21,53.79,"",794.57,16,794.57,1489.36,20,53.41,"",766.89,24,766.89,2256.25,24,53.17,"",814.18,28,814.18,2375.64,28,41.78,"",793.44,18,793.44,3169.08,27,44.41,"",829.09,22,829.09,3998.17,26,40.130000000000003,"",789.18,9,789.18,4787.3500000000004,24,46.63,"",753.37,19,753.37,5540.72,22,47.65,"",737.46,21,737.46,6278.18,24,38.909999999999997,"",1000,1,1000,7278.18,21,45.98,"",784.9,13,784.9,8063.08,19,57.95,"",610.17999999999995,25,610.17999999999995,8757.8700000000008,19,48.17,"",847.83,9,847.83,9605.7000000000007,19,52.4,"",769.46,20,769.46,10375.16,19,"","","","","","","","","","","","","","","","","","","","","","","","","","","","","","","","","","","","","","","","","","","$ER$31:$FE$31",694.79,794.57,766.89,814.18,793.44,829.09,789.18,753.37,737.46,1000,784.9,610.17999999999995,847.83,769.46,0,0,0,0,0,0,"$FM$31:$FZ$31",0,0,0,0,0,0,0,0,0,0,0,0,0,0,0,0,0,0,0,0,"GU31",0,0,0,694.79,694.79,694.79,694.79,694.79,694.79,694.79,694.79,610.17999999999995,610.17999999999995,610.17999999999995,610.17999999999995,0,0,0,0,0,10375.16,19,"12"]
[28,"Andy Burgoyne",0,10306.57,22,"6",48.35,"",800.41,10,800.41,800.41,10,47.28,"",903.97,2,903.97,1704.38,3,54.5,"",751.55,26,751.55,2455.9299999999998,8,49.54,"",873.83,16,873.83,2578.21,10,40.79,"",812.69,11,812.69,3390.9,10,"","","","","",4142.45,20,44.41,"",713.12,19,713.12,4855.57,20,48.42,"",725.52,22,725.52,5581.09,21,49.02,"",716.85,25,716.85,6297.94,23,43.81,"",888.15,14,888.15,7186.09,22,49.65,"",726.88,22,726.88,7912.97,22,49.17,"",719.13,14,719.13,8632.1,22,49.19,"",830.25,10,830.25,9462.35,23,47.76,"",844.22,7,844.22,10306.57,22,"","","","","","","","","","","","","","","","","","","","","","","","","","","","","","","","","","","","","","","","","","","$ER$32:$FE$32",800.41,903.97,751.55,873.83,812.69,0,713.12,725.52,716.85,888.15,726.88,719.13,830.25,844.22,0,0,0,0,0,0,"$FM$32:$FZ$32",0,0,0,0,0,0,0,0,0,0,0,0,0,0,0,0,0,0,0,0,"GU32",0,0,0,751.55,751.55,0,0,0,0,0,0,0,0,0,0,0,0,0,0,0,10306.57,22,"6"]
[29,"Mike Evans",0,10607.42,15,"12",48.03,"",805.74,9,805.74,805.74,9,48.05,"",889.49,5,889.49,1695.23,4,45.9,"",892.37,7,892.37,2587.6,4,54.61,"",792.71,29,792.71,2587.6,9,42.57,"",778.71,21,778.71,3380.31,11,41.87,"",879.38,13,879.38,4259.6899999999996,12,44.57,"",710.56,20,710.56,5038.3999999999996,13,45.88,"",765.69,17,765.69,5804.09,14,38.270000000000003,"",918.21,4,918.21,6722.3,11,50.69,"",767.6,23,767.6,7489.9,16,45.57,"",791.96,11,791.96,8281.86,16,56.04,"",630.97,24,630.97,8992.42,16,45.22,"",903.14,5,903.14,9895.56,13,56.64,"",711.86,26,711.86,10607.42,15,"","","","","","","","","","","","","","","","","","","","","","","","","","","","","","","","","","","","","","","","","","","$ER$33:$FE$33",805.74,889.49,892.37,792.71,778.71,879.38,710.56,765.69,918.21,767.6,791.96,630.97,903.14,711.86,0,0,0,0,0,0,"$FM$33:$FZ$33",0,0,0,0,0,0,0,0,0,0,0,0,0,0,0,0,0,0,0,0,"GU33",0,0,0,792.71,778.71,778.71,710.56,710.56,710.56,710.56,710.56,630.97,630.97,630.97,630.97,0,0,0,0,0,10607.42,15,"12"]

{"sheet":"Leader Board","index":1,"n_rows":100,"n_cols":5,"rows_kept":100,"cut":false,"hidden":false,"merged":[]}
[{"$f":"99-COUNTIF(Results!B5:B103,\"\")","v":29},"Position","Pilots Name","Total Score","Normalized Score"]
[{"$f":"MATCH(ROW()-1,Results!E$5:E$103,0)","v":20},1,"Joel West",12563.32,1000]
[{"$f":"IF(ISNA(MATCH(ROW()-1,Results!E$5:E$103,0)),MATCH(D2,OFFSET(Results!D$5:D$103,'Leader Board'!A2,0,$A$1),0)+A2,MATCH(ROW()-1,Results!E$5:E$103,0))","v":22},2,"Mark Redsell",11345.49,903.06]
[{"$f":"IF(ISNA(MATCH(ROW()-1,Results!E$5:E$103,0)),MATCH(D3,OFFSET(Results!D$5:D$103,'Leader Board'!A3,0,$A$1),0)+A3,MATCH(ROW()-1,Results!E$5:E$103,0))","v":10},3,"Stefan Bertschi",11254.6,895.83]
[{"$f":"IF(ISNA(MATCH(ROW()-1,Results!E$5:E$103,0)),MATCH(D4,OFFSET(Results!D$5:D$103,'Leader Board'!A4,0,$A$1),0)+A4,MATCH(ROW()-1,Results!E$5:E$103,0))","v":15},4,"Greg Dakin",11208.97,892.19]
[{"$f":"IF(ISNA(MATCH(ROW()-1,Results!E$5:E$103,0)),MATCH(D5,OFFSET(Results!D$5:D$103,'Leader Board'!A5,0,$A$1),0)+A5,MATCH(ROW()-1,Results!E$5:E$103,0))","v":21},5,"Aleix Ingles Elias",11065.74,880.79]
[{"$f":"IF(ISNA(MATCH(ROW()-1,Results!E$5:E$103,0)),MATCH(D6,OFFSET(Results!D$5:D$103,'Leader Board'!A6,0,$A$1),0)+A6,MATCH(ROW()-1,Results!E$5:E$103,0))","v":24},6,"Stefan Bernardy",10973.93,873.48]
[{"$f":"IF(ISNA(MATCH(ROW()-1,Results!E$5:E$103,0)),MATCH(D7,OFFSET(Results!D$5:D$103,'Leader Board'!A7,0,$A$1),0)+A7,MATCH(ROW()-1,Results!E$5:E$103,0))","v":14},7,"Kevin Newton",10959.05,872.3]
[{"$f":"IF(ISNA(MATCH(ROW()-1,Results!E$5:E$103,0)),MATCH(D8,OFFSET(Results!D$5:D$103,'Leader Board'!A8,0,$A$1),0)+A8,MATCH(ROW()-1,Results!E$5:E$103,0))","v":4},8,"Mark Treble",10934.86,870.37]
[{"$f":"IF(ISNA(MATCH(ROW()-1,Results!E$5:E$103,0)),MATCH(D9,OFFSET(Results!D$5:D$103,'Leader Board'!A9,0,$A$1),0)+A9,MATCH(ROW()-1,Results!E$5:E$103,0))","v":12},9,"Graeme Mahoney",10925.77,869.65]
[{"$f":"IF(ISNA(MATCH(ROW()-1,Results!E$5:E$103,0)),MATCH(D10,OFFSET(Results!D$5:D$103,'Leader Board'!A10,0,$A$1),0)+A10,MATCH(ROW()-1,Results!E$5:E$103,0))","v":16},10,"Erik Heijne",10813.57,860.72]
[{"$f":"IF(ISNA(MATCH(ROW()-1,Results!E$5:E$103,0)),MATCH(D11,OFFSET(Results!D$5:D$103,'Leader Board'!A11,0,$A$1),0)+A11,MATCH(ROW()-1,Results!E$5:E$103,0))","v":1},11,"Frits Donker Duyvis",10800.95,859.72]
[{"$f":"IF(ISNA(MATCH(ROW()-1,Results!E$5:E$103,0)),MATCH(D12,OFFSET(Results!D$5:D$103,'Leader Board'!A12,0,$A$1),0)+A12,MATCH(ROW()-1,Results!E$5:E$103,0))","v":13},12,"Mike Shellim",10758.82,856.36]
[{"$f":"IF(ISNA(MATCH(ROW()-1,Results!E$5:E$103,0)),MATCH(D13,OFFSET(Results!D$5:D$103,'Leader Board'!A13,0,$A$1),0)+A13,MATCH(ROW()-1,Results!E$5:E$103,0))","v":2},13,"Peter Gunning",10749.74,855.64]
[{"$f":"IF(ISNA(MATCH(ROW()-1,Results!E$5:E$103,0)),MATCH(D14,OFFSET(Results!D$5:D$103,'Leader Board'!A14,0,$A$1),0)+A14,MATCH(ROW()-1,Results!E$5:E$103,0))","v":9},14,"Arjen Van Vark",10649.97,847.7]
[{"$f":"IF(ISNA(MATCH(ROW()-1,Results!E$5:E$103,0)),MATCH(D15,OFFSET(Results!D$5:D$103,'Leader Board'!A15,0,$A$1),0)+A15,MATCH(ROW()-1,Results!E$5:E$103,0))","v":29},15,"Mike Evans",10607.42,844.31]
[{"$f":"IF(ISNA(MATCH(ROW()-1,Results!E$5:E$103,0)),MATCH(D16,OFFSET(Results!D$5:D$103,'Leader Board'!A16,0,$A$1),0)+A16,MATCH(ROW()-1,Results!E$5:E$103,0))","v":6},16,"Mark Passingham",10540.71,839]
[{"$f":"IF(ISNA(MATCH(ROW()-1,Results!E$5:E$103,0)),MATCH(D17,OFFSET(Results!D$5:D$103,'Leader Board'!A17,0,$A$1),0)+A17,MATCH(ROW()-1,Results!E$5:E$103,0))","v":7},17,"William Fourie",10530.67,838.2]
[{"$f":"IF(ISNA(MATCH(ROW()-1,Results!E$5:E$103,0)),MATCH(D18,OFFSET(Results!D$5:D$103,'Leader Board'!A18,0,$A$1),0)+A18,MATCH(ROW()-1,Results!E$5:E$103,0))","v":11},18,"Peter Lemans",10398.969999999999,827.72]
[{"$f":"IF(ISNA(MATCH(ROW()-1,Results!E$5:E$103,0)),MATCH(D19,OFFSET(Results!D$5:D$103,'Leader Board'!A19,0,$A$1),0)+A19,MATCH(ROW()-1,Results!E$5:E$103,0))","v":27},19,"Les Wood",10375.16,825.82]
[{"$f":"IF(ISNA(MATCH(ROW()-1,Results!E$5:E$103,0)),MATCH(D20,OFFSET(Results!D$5:D$103,'Leader Board'!A20,0,$A$1),0)+A20,MATCH(ROW()-1,Results!E$5:E$103,0))","v":26},20,"Phil Taylor",10368.52,825.3]
[{"$f":"IF(ISNA(MATCH(ROW()-1,Results!E$5:E$103,0)),MATCH(D21,OFFSET(Results!D$5:D$103,'Leader Board'!A21,0,$A$1),0)+A21,MATCH(ROW()-1,Results!E$5:E$103,0))","v":19},21,"Paul Stubley",10328.950000000001,822.15]
[{"$f":"IF(ISNA(MATCH(ROW()-1,Results!E$5:E$103,0)),MATCH(D22,OFFSET(Results!D$5:D$103,'Leader Board'!A22,0,$A$1),0)+A22,MATCH(ROW()-1,Results!E$5:E$103,0))","v":28},22,"Andy Burgoyne",10306.57,820.36]
[{"$f":"IF(ISNA(MATCH(ROW()-1,Results!E$5:E$103,0)),MATCH(D23,OFFSET(Results!D$5:D$103,'Leader Board'!A23,0,$A$1),0)+A23,MATCH(ROW()-1,Results!E$5:E$103,0))","v":5},23,"David Rumble",10191.530000000001,811.21]
[{"$f":"IF(ISNA(MATCH(ROW()-1,Results!E$5:E$103,0)),MATCH(D24,OFFSET(Results!D$5:D$103,'Leader Board'!A24,0,$A$1),0)+A24,MATCH(ROW()-1,Results!E$5:E$103,0))","v":8},24,"Ian Mason",10148.540000000001,807.79]
[{"$f":"IF(ISNA(MATCH(ROW()-1,Results!E$5:E$103,0)),MATCH(D25,OFFSET(Results!D$5:D$103,'Leader Board'!A25,0,$A$1),0)+A25,MATCH(ROW()-1,Results!E$5:E$103,0))","v":17},25,"Bruce Hudson",9911.98,788.96]
[{"$f":"IF(ISNA(MATCH(ROW()-1,Results!E$5:E$103,0)),MATCH(D26,OFFSET(Results!D$5:D$103,'Leader Board'!A26,0,$A$1),0)+A26,MATCH(ROW()-1,Results!E$5:E$103,0))","v":23},26,"Dave Demott",9747.8799999999992,775.9]
[{"$f":"IF(ISNA(MATCH(ROW()-1,Results!E$5:E$103,0)),MATCH(D27,OFFSET(Results!D$5:D$103,'Leader Board'!A27,0,$A$1),0)+A27,MATCH(ROW()-1,Results!E$5:E$103,0))","v":3},27,"Jon Edison",9695.09,771.69]
[{"$f":"IF(ISNA(MATCH(ROW()-1,Results!E$5:E$103,0)),MATCH(D28,OFFSET(Results!D$5:D$103,'Leader Board'!A28,0,$A$1),0)+A28,MATCH(ROW()-1,Results!E$5:E$103,0))","v":18},28,"John Phillips",3293.01,262.11]
[{"$f":"IF(ISNA(MATCH(ROW()-1,Results!E$5:E$103,0)),MATCH(D29,OFFSET(Results!D$5:D$103,'Leader Board'!A29,0,$A$1),0)+A29,MATCH(ROW()-1,Results!E$5:E$103,0))","v":25},29,"Maria Freeman",3012.93,239.81]
[{"$f":"IF(ISNA(MATCH(ROW()-1,Results!E$5:E$103,0)),MATCH(D30,OFFSET(Results!D$5:D$103,'Leader Board'!A30,0,$A$1),0)+A30,MATCH(ROW()-1,Results!E$5:E$103,0))","v":{"$error":"#N/A"}},{"$f":"IF(ISNA(A31),\"\",INDIRECT(\"Results!R\"&4+A31&\"C5\",FALSE))","v":""},{"$f":"IF(ISNA(A31),\"\",INDIRECT(\"Results!R\"&4+A31&\"C2\",FALSE))","v":""},{"$f":"IF(ISNA(A31),\"\",INDIRECT(\"Results!R\"&4+A31&\"C4\",FALSE))","v":""},{"$f":"IF(OR(ISNA(A31),$D$2=0),\"\",IF(#REF!=0,ROUNDDOWN((D31/D$2)*1000,2),ROUND((D31/D$2)*1000,2)))","v":""}]
[{"$f":"IF(ISNA(MATCH(ROW()-1,Results!E$5:E$103,0)),MATCH(D31,OFFSET(Results!D$5:D$103,'Leader Board'!A31,0,$A$1),0)+A31,MATCH(ROW()-1,Results!E$5:E$103,0))","v":{"$error":"#N/A"}},"","","",{"$f":"IF(OR(ISNA(A32),$D$2=0),\"\",IF(#REF!=0,ROUNDDOWN((D32/D$2)*1000,2),ROUND((D32/D$2)*1000,2)))","v":""}]
[{"$f":"IF(ISNA(MATCH(ROW()-1,Results!E$5:E$103,0)),MATCH(D32,OFFSET(Results!D$5:D$103,'Leader Board'!A32,0,$A$1),0)+A32,MATCH(ROW()-1,Results!E$5:E$103,0))","v":{"$error":"#N/A"}},"","","",{"$f":"IF(OR(ISNA(A33),$D$2=0),\"\",IF(#REF!=0,ROUNDDOWN((D33/D$2)*1000,2),ROUND((D33/D$2)*1000,2)))","v":""}]
[{"$f":"IF(ISNA(MATCH(ROW()-1,Results!E$5:E$103,0)),MATCH(D33,OFFSET(Results!D$5:D$103,'Leader Board'!A33,0,$A$1),0)+A33,MATCH(ROW()-1,Results!E$5:E$103,0))","v":{"$error":"#N/A"}},"","","",{"$f":"IF(OR(ISNA(A34),$D$2=0),\"\",IF(#REF!=0,ROUNDDOWN((D34/D$2)*1000,2),ROUND((D34/D$2)*1000,2)))","v":""}]
[{"$f":"IF(ISNA(MATCH(ROW()-1,Results!E$5:E$103,0)),MATCH(D34,OFFSET(Results!D$5:D$103,'Leader Board'!A34,0,$A$1),0)+A34,MATCH(ROW()-1,Results!E$5:E$103,0))","v":{"$error":"#N/A"}},"","","",{"$f":"IF(OR(ISNA(A35),$D$2=0),\"\",IF(#REF!=0,ROUNDDOWN((D35/D$2)*1000,2),ROUND((D35/D$2)*1000,2)))","v":""}]
[{"$f":"IF(ISNA(MATCH(ROW()-1,Results!E$5:E$103,0)),MATCH(D35,OFFSET(Results!D$5:D$103,'Leader Board'!A35,0,$A$1),0)+A35,MATCH(ROW()-1,Results!E$5:E$103,0))","v":{"$error":"#N/A"}},"","","",{"$f":"IF(OR(ISNA(A36),$D$2=0),\"\",IF(#REF!=0,ROUNDDOWN((D36/D$2)*1000,2),ROUND((D36/D$2)*1000,2)))","v":""}]
[{"$f":"IF(ISNA(MATCH(ROW()-1,Results!E$5:E$103,0)),MATCH(D36,OFFSET(Results!D$5:D$103,'Leader Board'!A36,0,$A$1),0)+A36,MATCH(ROW()-1,Results!E$5:E$103,0))","v":{"$error":"#N/A"}},"","","",{"$f":"IF(OR(ISNA(A37),$D$2=0),\"\",IF(#REF!=0,ROUNDDOWN((D37/D$2)*1000,2),ROUND((D37/D$2)*1000,2)))","v":""}]
[{"$f":"IF(ISNA(MATCH(ROW()-1,Results!E$5:E$103,0)),MATCH(D37,OFFSET(Results!D$5:D$103,'Leader Board'!A37,0,$A$1),0)+A37,MATCH(ROW()-1,Results!E$5:E$103,0))","v":{"$error":"#N/A"}},"","","",{"$f":"IF(OR(ISNA(A38),$D$2=0),\"\",IF(#REF!=0,ROUNDDOWN((D38/D$2)*1000,2),ROUND((D38/D$2)*1000,2)))","v":""}]
[{"$f":"IF(ISNA(MATCH(ROW()-1,Results!E$5:E$103,0)),MATCH(D38,OFFSET(Results!D$5:D$103,'Leader Board'!A38,0,$A$1),0)+A38,MATCH(ROW()-1,Results!E$5:E$103,0))","v":{"$error":"#N/A"}},"","","",{"$f":"IF(OR(ISNA(A39),$D$2=0),\"\",IF(#REF!=0,ROUNDDOWN((D39/D$2)*1000,2),ROUND((D39/D$2)*1000,2)))","v":""}]
[{"$f":"IF(ISNA(MATCH(ROW()-1,Results!E$5:E$103,0)),MATCH(D39,OFFSET(Results!D$5:D$103,'Leader Board'!A39,0,$A$1),0)+A39,MATCH(ROW()-1,Results!E$5:E$103,0))","v":{"$error":"#N/A"}},"","","",{"$f":"IF(OR(ISNA(A40),$D$2=0),\"\",IF(#REF!=0,ROUNDDOWN((D40/D$2)*1000,2),ROUND((D40/D$2)*1000,2)))","v":""}]
[{"$f":"IF(ISNA(MATCH(ROW()-1,Results!E$5:E$103,0)),MATCH(D40,OFFSET(Results!D$5:D$103,'Leader Board'!A40,0,$A$1),0)+A40,MATCH(ROW()-1,Results!E$5:E$103,0))","v":{"$error":"#N/A"}},"","","",{"$f":"IF(OR(ISNA(A41),$D$2=0),\"\",IF(#REF!=0,ROUNDDOWN((D41/D$2)*1000,2),ROUND((D41/D$2)*1000,2)))","v":""}]
[{"$f":"IF(ISNA(MATCH(ROW()-1,Results!E$5:E$103,0)),MATCH(D41,OFFSET(Results!D$5:D$103,'Leader Board'!A41,0,$A$1),0)+A41,MATCH(ROW()-1,Results!E$5:E$103,0))","v":{"$error":"#N/A"}},"","","",{"$f":"IF(OR(ISNA(A42),$D$2=0),\"\",IF(#REF!=0,ROUNDDOWN((D42/D$2)*1000,2),ROUND((D42/D$2)*1000,2)))","v":""}]
[{"$f":"IF(ISNA(MATCH(ROW()-1,Results!E$5:E$103,0)),MATCH(D42,OFFSET(Results!D$5:D$103,'Leader Board'!A42,0,$A$1),0)+A42,MATCH(ROW()-1,Results!E$5:E$103,0))","v":{"$error":"#N/A"}},"","","",{"$f":"IF(OR(ISNA(A43),$D$2=0),\"\",IF(#REF!=0,ROUNDDOWN((D43/D$2)*1000,2),ROUND((D43/D$2)*1000,2)))","v":""}]
[{"$f":"IF(ISNA(MATCH(ROW()-1,Results!E$5:E$103,0)),MATCH(D43,OFFSET(Results!D$5:D$103,'Leader Board'!A43,0,$A$1),0)+A43,MATCH(ROW()-1,Results!E$5:E$103,0))","v":{"$error":"#N/A"}},"","","",{"$f":"IF(OR(ISNA(A44),$D$2=0),\"\",IF(#REF!=0,ROUNDDOWN((D44/D$2)*1000,2),ROUND((D44/D$2)*1000,2)))","v":""}]
[{"$f":"IF(ISNA(MATCH(ROW()-1,Results!E$5:E$103,0)),MATCH(D44,OFFSET(Results!D$5:D$103,'Leader Board'!A44,0,$A$1),0)+A44,MATCH(ROW()-1,Results!E$5:E$103,0))","v":{"$error":"#N/A"}},"","","",{"$f":"IF(OR(ISNA(A45),$D$2=0),\"\",IF(#REF!=0,ROUNDDOWN((D45/D$2)*1000,2),ROUND((D45/D$2)*1000,2)))","v":""}]
[{"$f":"IF(ISNA(MATCH(ROW()-1,Results!E$5:E$103,0)),MATCH(D45,OFFSET(Results!D$5:D$103,'Leader Board'!A45,0,$A$1),0)+A45,MATCH(ROW()-1,Results!E$5:E$103,0))","v":{"$error":"#N/A"}},"","","",{"$f":"IF(OR(ISNA(A46),$D$2=0),\"\",IF(#REF!=0,ROUNDDOWN((D46/D$2)*1000,2),ROUND((D46/D$2)*1000,2)))","v":""}]
[{"$f":"IF(ISNA(MATCH(ROW()-1,Results!E$5:E$103,0)),MATCH(D46,OFFSET(Results!D$5:D$103,'Leader Board'!A46,0,$A$1),0)+A46,MATCH(ROW()-1,Results!E$5:E$103,0))","v":{"$error":"#N/A"}},"","","",{"$f":"IF(OR(ISNA(A47),$D$2=0),\"\",IF(#REF!=0,ROUNDDOWN((D47/D$2)*1000,2),ROUND((D47/D$2)*1000,2)))","v":""}]
[{"$f":"IF(ISNA(MATCH(ROW()-1,Results!E$5:E$103,0)),MATCH(D47,OFFSET(Results!D$5:D$103,'Leader Board'!A47,0,$A$1),0)+A47,MATCH(ROW()-1,Results!E$5:E$103,0))","v":{"$error":"#N/A"}},"","","",{"$f":"IF(OR(ISNA(A48),$D$2=0),\"\",IF(#REF!=0,ROUNDDOWN((D48/D$2)*1000,2),ROUND((D48/D$2)*1000,2)))","v":""}]
[{"$f":"IF(ISNA(MATCH(ROW()-1,Results!E$5:E$103,0)),MATCH(D48,OFFSET(Results!D$5:D$103,'Leader Board'!A48,0,$A$1),0)+A48,MATCH(ROW()-1,Results!E$5:E$103,0))","v":{"$error":"#N/A"}},"","","",{"$f":"IF(OR(ISNA(A49),$D$2=0),\"\",IF(#REF!=0,ROUNDDOWN((D49/D$2)*1000,2),ROUND((D49/D$2)*1000,2)))","v":""}]
[{"$f":"IF(ISNA(MATCH(ROW()-1,Results!E$5:E$103,0)),MATCH(D49,OFFSET(Results!D$5:D$103,'Leader Board'!A49,0,$A$1),0)+A49,MATCH(ROW()-1,Results!E$5:E$103,0))","v":{"$error":"#N/A"}},"","","",{"$f":"IF(OR(ISNA(A50),$D$2=0),\"\",IF(#REF!=0,ROUNDDOWN((D50/D$2)*1000,2),ROUND((D50/D$2)*1000,2)))","v":""}]
[{"$f":"IF(ISNA(MATCH(ROW()-1,Results!E$5:E$103,0)),MATCH(D50,OFFSET(Results!D$5:D$103,'Leader Board'!A50,0,$A$1),0)+A50,MATCH(ROW()-1,Results!E$5:E$103,0))","v":{"$error":"#N/A"}},"","","",{"$f":"IF(OR(ISNA(A51),$D$2=0),\"\",IF(#REF!=0,ROUNDDOWN((D51/D$2)*1000,2),ROUND((D51/D$2)*1000,2)))","v":""}]
[{"$f":"IF(ISNA(MATCH(ROW()-1,Results!E$5:E$103,0)),MATCH(D51,OFFSET(Results!D$5:D$103,'Leader Board'!A51,0,$A$1),0)+A51,MATCH(ROW()-1,Results!E$5:E$103,0))","v":{"$error":"#N/A"}},"","","",{"$f":"IF(OR(ISNA(A52),$D$2=0),\"\",IF(#REF!=0,ROUNDDOWN((D52/D$2)*1000,2),ROUND((D52/D$2)*1000,2)))","v":""}]
[{"$f":"IF(ISNA(MATCH(ROW()-1,Results!E$5:E$103,0)),MATCH(D52,OFFSET(Results!D$5:D$103,'Leader Board'!A52,0,$A$1),0)+A52,MATCH(ROW()-1,Results!E$5:E$103,0))","v":{"$error":"#N/A"}},"","","",{"$f":"IF(OR(ISNA(A53),$D$2=0),\"\",IF(#REF!=0,ROUNDDOWN((D53/D$2)*1000,2),ROUND((D53/D$2)*1000,2)))","v":""}]
[{"$f":"IF(ISNA(MATCH(ROW()-1,Results!E$5:E$103,0)),MATCH(D53,OFFSET(Results!D$5:D$103,'Leader Board'!A53,0,$A$1),0)+A53,MATCH(ROW()-1,Results!E$5:E$103,0))","v":{"$error":"#N/A"}},"","","",{"$f":"IF(OR(ISNA(A54),$D$2=0),\"\",IF(#REF!=0,ROUNDDOWN((D54/D$2)*1000,2),ROUND((D54/D$2)*1000,2)))","v":""}]
[{"$f":"IF(ISNA(MATCH(ROW()-1,Results!E$5:E$103,0)),MATCH(D54,OFFSET(Results!D$5:D$103,'Leader Board'!A54,0,$A$1),0)+A54,MATCH(ROW()-1,Results!E$5:E$103,0))","v":{"$error":"#N/A"}},"","","",{"$f":"IF(OR(ISNA(A55),$D$2=0),\"\",IF(#REF!=0,ROUNDDOWN((D55/D$2)*1000,2),ROUND((D55/D$2)*1000,2)))","v":""}]
[{"$f":"IF(ISNA(MATCH(ROW()-1,Results!E$5:E$103,0)),MATCH(D55,OFFSET(Results!D$5:D$103,'Leader Board'!A55,0,$A$1),0)+A55,MATCH(ROW()-1,Results!E$5:E$103,0))","v":{"$error":"#N/A"}},"","","",{"$f":"IF(OR(ISNA(A56),$D$2=0),\"\",IF(#REF!=0,ROUNDDOWN((D56/D$2)*1000,2),ROUND((D56/D$2)*1000,2)))","v":""}]
[{"$f":"IF(ISNA(MATCH(ROW()-1,Results!E$5:E$103,0)),MATCH(D56,OFFSET(Results!D$5:D$103,'Leader Board'!A56,0,$A$1),0)+A56,MATCH(ROW()-1,Results!E$5:E$103,0))","v":{"$error":"#N/A"}},"","","",{"$f":"IF(OR(ISNA(A57),$D$2=0),\"\",IF(#REF!=0,ROUNDDOWN((D57/D$2)*1000,2),ROUND((D57/D$2)*1000,2)))","v":""}]
[{"$f":"IF(ISNA(MATCH(ROW()-1,Results!E$5:E$103,0)),MATCH(D57,OFFSET(Results!D$5:D$103,'Leader Board'!A57,0,$A$1),0)+A57,MATCH(ROW()-1,Results!E$5:E$103,0))","v":{"$error":"#N/A"}},"","","",{"$f":"IF(OR(ISNA(A58),$D$2=0),\"\",IF(#REF!=0,ROUNDDOWN((D58/D$2)*1000,2),ROUND((D58/D$2)*1000,2)))","v":""}]
[{"$f":"IF(ISNA(MATCH(ROW()-1,Results!E$5:E$103,0)),MATCH(D58,OFFSET(Results!D$5:D$103,'Leader Board'!A58,0,$A$1),0)+A58,MATCH(ROW()-1,Results!E$5:E$103,0))","v":{"$error":"#N/A"}},"","","",{"$f":"IF(OR(ISNA(A59),$D$2=0),\"\",IF(#REF!=0,ROUNDDOWN((D59/D$2)*1000,2),ROUND((D59/D$2)*1000,2)))","v":""}]
[{"$f":"IF(ISNA(MATCH(ROW()-1,Results!E$5:E$103,0)),MATCH(D59,OFFSET(Results!D$5:D$103,'Leader Board'!A59,0,$A$1),0)+A59,MATCH(ROW()-1,Results!E$5:E$103,0))","v":{"$error":"#N/A"}},"","","",{"$f":"IF(OR(ISNA(A60),$D$2=0),\"\",IF(#REF!=0,ROUNDDOWN((D60/D$2)*1000,2),ROUND((D60/D$2)*1000,2)))","v":""}]
[{"$f":"IF(ISNA(MATCH(ROW()-1,Results!E$5:E$103,0)),MATCH(D60,OFFSET(Results!D$5:D$103,'Leader Board'!A60,0,$A$1),0)+A60,MATCH(ROW()-1,Results!E$5:E$103,0))","v":{"$error":"#N/A"}},"","","",{"$f":"IF(OR(ISNA(A61),$D$2=0),\"\",IF(#REF!=0,ROUNDDOWN((D61/D$2)*1000,2),ROUND((D61/D$2)*1000,2)))","v":""}]
[{"$f":"IF(ISNA(MATCH(ROW()-1,Results!E$5:E$103,0)),MATCH(D61,OFFSET(Results!D$5:D$103,'Leader Board'!A61,0,$A$1),0)+A61,MATCH(ROW()-1,Results!E$5:E$103,0))","v":{"$error":"#N/A"}},"","","",{"$f":"IF(OR(ISNA(A62),$D$2=0),\"\",IF(#REF!=0,ROUNDDOWN((D62/D$2)*1000,2),ROUND((D62/D$2)*1000,2)))","v":""}]
[{"$f":"IF(ISNA(MATCH(ROW()-1,Results!E$5:E$103,0)),MATCH(D62,OFFSET(Results!D$5:D$103,'Leader Board'!A62,0,$A$1),0)+A62,MATCH(ROW()-1,Results!E$5:E$103,0))","v":{"$error":"#N/A"}},"","","",{"$f":"IF(OR(ISNA(A63),$D$2=0),\"\",IF(#REF!=0,ROUNDDOWN((D63/D$2)*1000,2),ROUND((D63/D$2)*1000,2)))","v":""}]
[{"$f":"IF(ISNA(MATCH(ROW()-1,Results!E$5:E$103,0)),MATCH(D63,OFFSET(Results!D$5:D$103,'Leader Board'!A63,0,$A$1),0)+A63,MATCH(ROW()-1,Results!E$5:E$103,0))","v":{"$error":"#N/A"}},"","","",{"$f":"IF(OR(ISNA(A64),$D$2=0),\"\",IF(#REF!=0,ROUNDDOWN((D64/D$2)*1000,2),ROUND((D64/D$2)*1000,2)))","v":""}]
[{"$f":"IF(ISNA(MATCH(ROW()-1,Results!E$5:E$103,0)),MATCH(D64,OFFSET(Results!D$5:D$103,'Leader Board'!A64,0,$A$1),0)+A64,MATCH(ROW()-1,Results!E$5:E$103,0))","v":{"$error":"#N/A"}},"","","",{"$f":"IF(OR(ISNA(A65),$D$2=0),\"\",IF(#REF!=0,ROUNDDOWN((D65/D$2)*1000,2),ROUND((D65/D$2)*1000,2)))","v":""}]
[{"$f":"IF(ISNA(MATCH(ROW()-1,Results!E$5:E$103,0)),MATCH(D65,OFFSET(Results!D$5:D$103,'Leader Board'!A65,0,$A$1),0)+A65,MATCH(ROW()-1,Results!E$5:E$103,0))","v":{"$error":"#N/A"}},"","","",{"$f":"IF(OR(ISNA(A66),$D$2=0),\"\",IF(#REF!=0,ROUNDDOWN((D66/D$2)*1000,2),ROUND((D66/D$2)*1000,2)))","v":""}]
[{"$f":"IF(ISNA(MATCH(ROW()-1,Results!E$5:E$103,0)),MATCH(D66,OFFSET(Results!D$5:D$103,'Leader Board'!A66,0,$A$1),0)+A66,MATCH(ROW()-1,Results!E$5:E$103,0))","v":{"$error":"#N/A"}},{"$f":"IF(ISNA(A67),\"\",INDIRECT(\"Results!R\"&4+A67&\"C5\",FALSE))","v":""},"",{"$f":"IF(ISNA(A67),\"\",INDIRECT(\"Results!R\"&4+A67&\"C4\",FALSE))","v":""},{"$f":"IF(OR(ISNA(A67),$D$2=0),\"\",IF(#REF!=0,ROUNDDOWN((D67/D$2)*1000,2),ROUND((D67/D$2)*1000,2)))","v":""}]
[{"$f":"IF(ISNA(MATCH(ROW()-1,Results!E$5:E$103,0)),MATCH(D67,OFFSET(Results!D$5:D$103,'Leader Board'!A67,0,$A$1),0)+A67,MATCH(ROW()-1,Results!E$5:E$103,0))","v":{"$error":"#N/A"}},"","","",{"$f":"IF(OR(ISNA(A68),$D$2=0),\"\",IF(#REF!=0,ROUNDDOWN((D68/D$2)*1000,2),ROUND((D68/D$2)*1000,2)))","v":""}]
[{"$f":"IF(ISNA(MATCH(ROW()-1,Results!E$5:E$103,0)),MATCH(D68,OFFSET(Results!D$5:D$103,'Leader Board'!A68,0,$A$1),0)+A68,MATCH(ROW()-1,Results!E$5:E$103,0))","v":{"$error":"#N/A"}},"","","",{"$f":"IF(OR(ISNA(A69),$D$2=0),\"\",IF(#REF!=0,ROUNDDOWN((D69/D$2)*1000,2),ROUND((D69/D$2)*1000,2)))","v":""}]
[{"$f":"IF(ISNA(MATCH(ROW()-1,Results!E$5:E$103,0)),MATCH(D69,OFFSET(Results!D$5:D$103,'Leader Board'!A69,0,$A$1),0)+A69,MATCH(ROW()-1,Results!E$5:E$103,0))","v":{"$error":"#N/A"}},"","","",{"$f":"IF(OR(ISNA(A70),$D$2=0),\"\",IF(#REF!=0,ROUNDDOWN((D70/D$2)*1000,2),ROUND((D70/D$2)*1000,2)))","v":""}]
[{"$f":"IF(ISNA(MATCH(ROW()-1,Results!E$5:E$103,0)),MATCH(D70,OFFSET(Results!D$5:D$103,'Leader Board'!A70,0,$A$1),0)+A70,MATCH(ROW()-1,Results!E$5:E$103,0))","v":{"$error":"#N/A"}},"","","",{"$f":"IF(OR(ISNA(A71),$D$2=0),\"\",IF(#REF!=0,ROUNDDOWN((D71/D$2)*1000,2),ROUND((D71/D$2)*1000,2)))","v":""}]
[{"$f":"IF(ISNA(MATCH(ROW()-1,Results!E$5:E$103,0)),MATCH(D71,OFFSET(Results!D$5:D$103,'Leader Board'!A71,0,$A$1),0)+A71,MATCH(ROW()-1,Results!E$5:E$103,0))","v":{"$error":"#N/A"}},"","","",{"$f":"IF(OR(ISNA(A72),$D$2=0),\"\",IF(#REF!=0,ROUNDDOWN((D72/D$2)*1000,2),ROUND((D72/D$2)*1000,2)))","v":""}]
[{"$f":"IF(ISNA(MATCH(ROW()-1,Results!E$5:E$103,0)),MATCH(D72,OFFSET(Results!D$5:D$103,'Leader Board'!A72,0,$A$1),0)+A72,MATCH(ROW()-1,Results!E$5:E$103,0))","v":{"$error":"#N/A"}},"","","",{"$f":"IF(OR(ISNA(A73),$D$2=0),\"\",IF(#REF!=0,ROUNDDOWN((D73/D$2)*1000,2),ROUND((D73/D$2)*1000,2)))","v":""}]
[{"$f":"IF(ISNA(MATCH(ROW()-1,Results!E$5:E$103,0)),MATCH(D73,OFFSET(Results!D$5:D$103,'Leader Board'!A73,0,$A$1),0)+A73,MATCH(ROW()-1,Results!E$5:E$103,0))","v":{"$error":"#N/A"}},"","","",{"$f":"IF(OR(ISNA(A74),$D$2=0),\"\",IF(#REF!=0,ROUNDDOWN((D74/D$2)*1000,2),ROUND((D74/D$2)*1000,2)))","v":""}]
[{"$f":"IF(ISNA(MATCH(ROW()-1,Results!E$5:E$103,0)),MATCH(D74,OFFSET(Results!D$5:D$103,'Leader Board'!A74,0,$A$1),0)+A74,MATCH(ROW()-1,Results!E$5:E$103,0))","v":{"$error":"#N/A"}},"","","",{"$f":"IF(OR(ISNA(A75),$D$2=0),\"\",IF(#REF!=0,ROUNDDOWN((D75/D$2)*1000,2),ROUND((D75/D$2)*1000,2)))","v":""}]
[{"$f":"IF(ISNA(MATCH(ROW()-1,Results!E$5:E$103,0)),MATCH(D75,OFFSET(Results!D$5:D$103,'Leader Board'!A75,0,$A$1),0)+A75,MATCH(ROW()-1,Results!E$5:E$103,0))","v":{"$error":"#N/A"}},"","","",{"$f":"IF(OR(ISNA(A76),$D$2=0),\"\",IF(#REF!=0,ROUNDDOWN((D76/D$2)*1000,2),ROUND((D76/D$2)*1000,2)))","v":""}]
[{"$f":"IF(ISNA(MATCH(ROW()-1,Results!E$5:E$103,0)),MATCH(D76,OFFSET(Results!D$5:D$103,'Leader Board'!A76,0,$A$1),0)+A76,MATCH(ROW()-1,Results!E$5:E$103,0))","v":{"$error":"#N/A"}},"","","",{"$f":"IF(OR(ISNA(A77),$D$2=0),\"\",IF(#REF!=0,ROUNDDOWN((D77/D$2)*1000,2),ROUND((D77/D$2)*1000,2)))","v":""}]
[{"$f":"IF(ISNA(MATCH(ROW()-1,Results!E$5:E$103,0)),MATCH(D77,OFFSET(Results!D$5:D$103,'Leader Board'!A77,0,$A$1),0)+A77,MATCH(ROW()-1,Results!E$5:E$103,0))","v":{"$error":"#N/A"}},"","","",{"$f":"IF(OR(ISNA(A78),$D$2=0),\"\",IF(#REF!=0,ROUNDDOWN((D78/D$2)*1000,2),ROUND((D78/D$2)*1000,2)))","v":""}]
[{"$f":"IF(ISNA(MATCH(ROW()-1,Results!E$5:E$103,0)),MATCH(D78,OFFSET(Results!D$5:D$103,'Leader Board'!A78,0,$A$1),0)+A78,MATCH(ROW()-1,Results!E$5:E$103,0))","v":{"$error":"#N/A"}},"","","",{"$f":"IF(OR(ISNA(A79),$D$2=0),\"\",IF(#REF!=0,ROUNDDOWN((D79/D$2)*1000,2),ROUND((D79/D$2)*1000,2)))","v":""}]
[{"$f":"IF(ISNA(MATCH(ROW()-1,Results!E$5:E$103,0)),MATCH(D79,OFFSET(Results!D$5:D$103,'Leader Board'!A79,0,$A$1),0)+A79,MATCH(ROW()-1,Results!E$5:E$103,0))","v":{"$error":"#N/A"}},"","","",{"$f":"IF(OR(ISNA(A80),$D$2=0),\"\",IF(#REF!=0,ROUNDDOWN((D80/D$2)*1000,2),ROUND((D80/D$2)*1000,2)))","v":""}]
[{"$f":"IF(ISNA(MATCH(ROW()-1,Results!E$5:E$103,0)),MATCH(D80,OFFSET(Results!D$5:D$103,'Leader Board'!A80,0,$A$1),0)+A80,MATCH(ROW()-1,Results!E$5:E$103,0))","v":{"$error":"#N/A"}},"","","",{"$f":"IF(OR(ISNA(A81),$D$2=0),\"\",IF(#REF!=0,ROUNDDOWN((D81/D$2)*1000,2),ROUND((D81/D$2)*1000,2)))","v":""}]
[{"$f":"IF(ISNA(MATCH(ROW()-1,Results!E$5:E$103,0)),MATCH(D81,OFFSET(Results!D$5:D$103,'Leader Board'!A81,0,$A$1),0)+A81,MATCH(ROW()-1,Results!E$5:E$103,0))","v":{"$error":"#N/A"}},"","","",{"$f":"IF(OR(ISNA(A82),$D$2=0),\"\",IF(#REF!=0,ROUNDDOWN((D82/D$2)*1000,2),ROUND((D82/D$2)*1000,2)))","v":""}]
[{"$f":"IF(ISNA(MATCH(ROW()-1,Results!E$5:E$103,0)),MATCH(D82,OFFSET(Results!D$5:D$103,'Leader Board'!A82,0,$A$1),0)+A82,MATCH(ROW()-1,Results!E$5:E$103,0))","v":{"$error":"#N/A"}},"","","",{"$f":"IF(OR(ISNA(A83),$D$2=0),\"\",IF(#REF!=0,ROUNDDOWN((D83/D$2)*1000,2),ROUND((D83/D$2)*1000,2)))","v":""}]
[{"$f":"IF(ISNA(MATCH(ROW()-1,Results!E$5:E$103,0)),MATCH(D83,OFFSET(Results!D$5:D$103,'Leader Board'!A83,0,$A$1),0)+A83,MATCH(ROW()-1,Results!E$5:E$103,0))","v":{"$error":"#N/A"}},"","","",{"$f":"IF(OR(ISNA(A84),$D$2=0),\"\",IF(#REF!=0,ROUNDDOWN((D84/D$2)*1000,2),ROUND((D84/D$2)*1000,2)))","v":""}]
[{"$f":"IF(ISNA(MATCH(ROW()-1,Results!E$5:E$103,0)),MATCH(D84,OFFSET(Results!D$5:D$103,'Leader Board'!A84,0,$A$1),0)+A84,MATCH(ROW()-1,Results!E$5:E$103,0))","v":{"$error":"#N/A"}},"","","",{"$f":"IF(OR(ISNA(A85),$D$2=0),\"\",IF(#REF!=0,ROUNDDOWN((D85/D$2)*1000,2),ROUND((D85/D$2)*1000,2)))","v":""}]
[{"$f":"IF(ISNA(MATCH(ROW()-1,Results!E$5:E$103,0)),MATCH(D85,OFFSET(Results!D$5:D$103,'Leader Board'!A85,0,$A$1),0)+A85,MATCH(ROW()-1,Results!E$5:E$103,0))","v":{"$error":"#N/A"}},"","","",{"$f":"IF(OR(ISNA(A86),$D$2=0),\"\",IF(#REF!=0,ROUNDDOWN((D86/D$2)*1000,2),ROUND((D86/D$2)*1000,2)))","v":""}]
[{"$f":"IF(ISNA(MATCH(ROW()-1,Results!E$5:E$103,0)),MATCH(D86,OFFSET(Results!D$5:D$103,'Leader Board'!A86,0,$A$1),0)+A86,MATCH(ROW()-1,Results!E$5:E$103,0))","v":{"$error":"#N/A"}},"","","",{"$f":"IF(OR(ISNA(A87),$D$2=0),\"\",IF(#REF!=0,ROUNDDOWN((D87/D$2)*1000,2),ROUND((D87/D$2)*1000,2)))","v":""}]
[{"$f":"IF(ISNA(MATCH(ROW()-1,Results!E$5:E$103,0)),MATCH(D87,OFFSET(Results!D$5:D$103,'Leader Board'!A87,0,$A$1),0)+A87,MATCH(ROW()-1,Results!E$5:E$103,0))","v":{"$error":"#N/A"}},"","","",{"$f":"IF(OR(ISNA(A88),$D$2=0),\"\",IF(#REF!=0,ROUNDDOWN((D88/D$2)*1000,2),ROUND((D88/D$2)*1000,2)))","v":""}]
[{"$f":"IF(ISNA(MATCH(ROW()-1,Results!E$5:E$103,0)),MATCH(D88,OFFSET(Results!D$5:D$103,'Leader Board'!A88,0,$A$1),0)+A88,MATCH(ROW()-1,Results!E$5:E$103,0))","v":{"$error":"#N/A"}},"","","",{"$f":"IF(OR(ISNA(A89),$D$2=0),\"\",IF(#REF!=0,ROUNDDOWN((D89/D$2)*1000,2),ROUND((D89/D$2)*1000,2)))","v":""}]
[{"$f":"IF(ISNA(MATCH(ROW()-1,Results!E$5:E$103,0)),MATCH(D89,OFFSET(Results!D$5:D$103,'Leader Board'!A89,0,$A$1),0)+A89,MATCH(ROW()-1,Results!E$5:E$103,0))","v":{"$error":"#N/A"}},"","","",{"$f":"IF(OR(ISNA(A90),$D$2=0),\"\",IF(#REF!=0,ROUNDDOWN((D90/D$2)*1000,2),ROUND((D90/D$2)*1000,2)))","v":""}]
[{"$f":"IF(ISNA(MATCH(ROW()-1,Results!E$5:E$103,0)),MATCH(D90,OFFSET(Results!D$5:D$103,'Leader Board'!A90,0,$A$1),0)+A90,MATCH(ROW()-1,Results!E$5:E$103,0))","v":{"$error":"#N/A"}},"","","",{"$f":"IF(OR(ISNA(A91),$D$2=0),\"\",IF(#REF!=0,ROUNDDOWN((D91/D$2)*1000,2),ROUND((D91/D$2)*1000,2)))","v":""}]
[{"$f":"IF(ISNA(MATCH(ROW()-1,Results!E$5:E$103,0)),MATCH(D91,OFFSET(Results!D$5:D$103,'Leader Board'!A91,0,$A$1),0)+A91,MATCH(ROW()-1,Results!E$5:E$103,0))","v":{"$error":"#N/A"}},"","","",{"$f":"IF(OR(ISNA(A92),$D$2=0),\"\",IF(#REF!=0,ROUNDDOWN((D92/D$2)*1000,2),ROUND((D92/D$2)*1000,2)))","v":""}]
[{"$f":"IF(ISNA(MATCH(ROW()-1,Results!E$5:E$103,0)),MATCH(D92,OFFSET(Results!D$5:D$103,'Leader Board'!A92,0,$A$1),0)+A92,MATCH(ROW()-1,Results!E$5:E$103,0))","v":{"$error":"#N/A"}},"","","",{"$f":"IF(OR(ISNA(A93),$D$2=0),\"\",IF(#REF!=0,ROUNDDOWN((D93/D$2)*1000,2),ROUND((D93/D$2)*1000,2)))","v":""}]
[{"$f":"IF(ISNA(MATCH(ROW()-1,Results!E$5:E$103,0)),MATCH(D93,OFFSET(Results!D$5:D$103,'Leader Board'!A93,0,$A$1),0)+A93,MATCH(ROW()-1,Results!E$5:E$103,0))","v":{"$error":"#N/A"}},"",{"$f":"IF(ISNA(A94),\"\",INDIRECT(\"Results!R\"&4+A94&\"C2\",FALSE))","v":""},"",{"$f":"IF(OR(ISNA(A94),$D$2=0),\"\",IF(#REF!=0,ROUNDDOWN((D94/D$2)*1000,2),ROUND((D94/D$2)*1000,2)))","v":""}]
[{"$f":"IF(ISNA(MATCH(ROW()-1,Results!E$5:E$103,0)),MATCH(D94,OFFSET(Results!D$5:D$103,'Leader Board'!A94,0,$A$1),0)+A94,MATCH(ROW()-1,Results!E$5:E$103,0))","v":{"$error":"#N/A"}},"","","",{"$f":"IF(OR(ISNA(A95),$D$2=0),\"\",IF(#REF!=0,ROUNDDOWN((D95/D$2)*1000,2),ROUND((D95/D$2)*1000,2)))","v":""}]
[{"$f":"IF(ISNA(MATCH(ROW()-1,Results!E$5:E$103,0)),MATCH(D95,OFFSET(Results!D$5:D$103,'Leader Board'!A95,0,$A$1),0)+A95,MATCH(ROW()-1,Results!E$5:E$103,0))","v":{"$error":"#N/A"}},"","","",{"$f":"IF(OR(ISNA(A96),$D$2=0),\"\",IF(#REF!=0,ROUNDDOWN((D96/D$2)*1000,2),ROUND((D96/D$2)*1000,2)))","v":""}]
[{"$f":"IF(ISNA(MATCH(ROW()-1,Results!E$5:E$103,0)),MATCH(D96,OFFSET(Results!D$5:D$103,'Leader Board'!A96,0,$A$1),0)+A96,MATCH(ROW()-1,Results!E$5:E$103,0))","v":{"$error":"#N/A"}},"","","",{"$f":"IF(OR(ISNA(A97),$D$2=0),\"\",IF(#REF!=0,ROUNDDOWN((D97/D$2)*1000,2),ROUND((D97/D$2)*1000,2)))","v":""}]
[{"$f":"IF(ISNA(MATCH(ROW()-1,Results!E$5:E$103,0)),MATCH(D97,OFFSET(Results!D$5:D$103,'Leader Board'!A97,0,$A$1),0)+A97,MATCH(ROW()-1,Results!E$5:E$103,0))","v":{"$error":"#N/A"}},"","","",{"$f":"IF(OR(ISNA(A98),$D$2=0),\"\",IF(#REF!=0,ROUNDDOWN((D98/D$2)*1000,2),ROUND((D98/D$2)*1000,2)))","v":""}]
[{"$f":"IF(ISNA(MATCH(ROW()-1,Results!E$5:E$103,0)),MATCH(D98,OFFSET(Results!D$5:D$103,'Leader Board'!A98,0,$A$1),0)+A98,MATCH(ROW()-1,Results!E$5:E$103,0))","v":{"$error":"#N/A"}},"","","",{"$f":"IF(OR(ISNA(A99),$D$2=0),\"\",IF(#REF!=0,ROUNDDOWN((D99/D$2)*1000,2),ROUND((D99/D$2)*1000,2)))","v":""}]
[{"$f":"IF(ISNA(MATCH(ROW()-1,Results!E$5:E$103,0)),MATCH(D99,OFFSET(Results!D$5:D$103,'Leader Board'!A99,0,$A$1),0)+A99,MATCH(ROW()-1,Results!E$5:E$103,0))","v":{"$error":"#N/A"}},"","","",{"$f":"IF(OR(ISNA(A100),$D$2=0),\"\",IF(#REF!=0,ROUNDDOWN((D100/D$2)*1000,2),ROUND((D100/D$2)*1000,2)))","v":""}]

{"sheet":"Raw Data","index":2,"n_rows":104,"n_cols":43,"rows_kept":104,"cut":false,"hidden":false,"merged":[[101,41,101,42],[102,41,102,42],[103,41,103,42],[101,37,101,38],[102,37,102,38],[103,37,103,38],[101,39,101,40],[102,39,102,40],[103,39,103,40],[101,33,101,34],[102,33,102,34],[103,33,103,34],[101,35,101,36],[102,35,102,36],[103,35,103,36],[101,29,101,30],[102,29,102,30],[103,29,103,30],[101,31,101,32],[102,31,102,32],[103,31,103,32],[101,25,101,26],[102,25,102,26],[103,25,103,26],[101,27,101,28],[102,27,102,28],[103,27,103,28],[101,21,101,22],[102,21,102,22],[103,21,103,22],[101,23,101,24],[102,23,102,24],[103,23,103,24],[101,17,101,18],[102,17,102,18],[103,17,103,18],[101,19,101,20],[102,19,102,20],[103,19,103,20],[101,13,101,14],[102,13,102,14],[103,13,103,14],[101,15,101,16],[102,15,102,16],[103,15,103,16],[103,11,103,12],[103,3,103,4],[103,5,103,6],[103,7,103,8],[103,9,103,10],[101,7,101,8],[102,5,102,6],[102,7,102,8],[101,11,101,12],[102,11,102,12],[101,9,101,10],[102,9,102,10],[101,0,101,2],[102,0,102,2],[103,0,103,2],[101,5,101,6],[101,3,101,4],[102,3,102,4]]}
[null,null,"Discards",0,null,0,null,0,null,1,null,1,null,1,null,1,null,1,null,1,null,1,null,1,null,1,null,1,null,1,null,2,null,2,null,2,null,2,null,2,null,2]
[null,"Pilot","Frequency","Rd1 Time","Rd1 Penalty","Rd2 Time","Rd2 Penalty","Rd3 Time","Rd3 Penalty","Rd4 Time","Rd4 Penalty","Rd5 Time","Rd5 Penalty","Rd6 Time","Rd6 Penalty","Rd7 Time","Rd7 Penalty","Rd8 Time","Rd8 Penalty","Rd9 Time","Rd9 Penalty","Rd10 Time","Rd10 Penalty","Rd11 Time","Rd11 Penalty","Rd12 Time","Rd12 Penalty","Rd13 Time","Rd13 Penalty","Rd14 Time","Rd14 Penalty","Rd15 Time","Rd15 Penalty","Rd16 Time","Rd16 Penalty","Rd17 Time","Rd17 Penalty","Rd18 Time","Rd18 Penalty","Rd19 Time","Rd19 Penalty","Rd20 Time","Rd20 Penalty"]
[1,"Frits Donker Duyvis",0,51.88,null,57.16,null,54.11,null,47.33,null,36.39,null,36.82,null,47.42,null,41.88,null,42.36,null,45.58,null,42.91,null,49.01,null,50.71,null,48.3,0]
[2,"Peter Gunning",0,50.43,null,59.6,null,49.43,null,48.24,null,41.4,null,42.1,null,38.380000000000003,null,45.56,null,42.7,null,42.34,null,43.86,null,47,null,51.62,null,46,0]
[3,"Jon Edison",0,58.95,null,60.66,null,50.13,null,47.76,null,44.6,null,49.21,null,39.03,null,48.44,null,48.34,null,57.93,null,56.61,null,58.42,null,53.18,null,51.8,0]
[4,"Mark Treble",0,50.68,null,62.66,null,49.27,null,46.81,null,41.08,null,41.3,null,39.89,null,46.91,null,36.71,null,43.59,null,43.11,null,54,null,50.75,null,40.32,0]
[5,"David Rumble",0,48.38,null,57.4,null,53.28,null,43.29,null,48.16,null,44.36,null,43.89,null,46.92,null,41.94,null,56.44,null,50.96,null,52.4,null,41.7,null,61.9,0]
[6,"Mark Passingham",0,47.58,null,54.28,null,50.29,null,48.56,null,38.61,null,39.54,null,39.270000000000003,null,43.89,null,41.96,null,53.83,null,48.4,null,46.15,null,62.65,null,52.69,0]
[7,"William Fourie",0,49.01,null,57.42,null,54.81,null,51.2,null,41.75,null,37.39,null,44.22,null,40.17,null,42.44,null,46.85,null,47.84,null,46.51,null,51.35,null,51.55,0]
[8,"Ian Mason",0,49.18,null,58.71,null,50.03,null,53.02,null,47.96,null,41.65,null,48.4,null,44.45,null,42.01,null,56.64,null,48.3,null,48.34,null,50.41,null,49.13,0]
[9,"Arjen Van Vark",0,45.12,null,55.8,null,50.37,null,50.46,null,40.950000000000003,null,40.380000000000003,null,35.78,null,48.89,null,49.69,null,43.58,null,42.82,null,48.21,null,55.17,null,49.12,0]
[10,"Stefan Bertschi",0,44.92,null,55.16,null,48.24,null,48.09,null,37.11,null,38.909999999999997,null,40.94,null,39.64,null,41.49,null,39.29,null,43.87,null,50.12,null,49.45,null,45.62,0]
[11,"Peter Lemans",0,48.74,null,62.23,null,51.48,null,49.81,null,43.93,null,43.41,null,41.8,null,39.68,null,44.51,null,49.43,null,50.74,null,53.08,null,44.81,null,49.88,0]
[12,"Graeme Mahoney",0,47.98,null,51.47,null,45.54,null,45.4,null,43.71,null,42.42,null,44.95,null,43.55,null,40.47,null,43.12,null,40.840000000000003,null,49.85,null,49.27,null,49.76,0]
[13,"Mike Shellim",0,47.07,null,51.11,null,55.39,null,48.4,null,37.65,null,41.8,null,36.29,null,42.12,null,42.46,null,50.3,null,47.77,null,42.51,null,50.73,null,54.16,0]
[14,"Kevin Newton",0,47.96,null,53.73,null,51.64,null,46.88,null,39.58,null,38.54,null,43.35,null,42.25,null,43.41,null,41.82,null,45.81,null,54.36,null,47.72,null,44.72,0]
[15,"Greg Dakin",0,47.91,null,47.63,null,44.8,null,46.88,null,41.8,null,38.299999999999997,null,43.3,null,41.56,null,47.02,null,41.93,null,42.93,null,48.45,null,44.6,null,44.63,0]
[16,"Erik Heijne",0,50,null,49.17,null,50.22,null,50.32,null,42,null,42.19,null,38.94,null,40.869999999999997,null,43.42,null,40.08,null,41.8,null,50.95,null,52.48,null,54.64,0]
[17,"Bruce Hudson",0,60.3,null,54.38,null,44.09,null,51.25,null,44.7,null,45.41,null,45.37,null,49.01,null,48.5,null,48.91,null,45.99,null,53.26,null,58.25,null,56.37,0]
[18,"John Phillips",0,55.76,null,48.7,null,48.06,null,49.81,null,0,null,0,null,0,null,0,null,0,null,0,null,0,null,0,null,0,null,0,0]
[19,"Paul Stubley",0,60.86,null,54.53,null,51.85,null,52.09,null,40.409999999999997,null,43.07,null,44.39,null,48.6,null,36.57,null,46.57,null,46.08,null,45,null,55.83,null,56.33,0]
[20,"Joel West",0,0,null,42.74,null,43.15,null,48.56,null,33.15,null,37.909999999999997,null,31.67,null,35.130000000000003,null,35.14,null,39.78,null,36.090000000000003,null,35.36,null,46.48,null,45.07,0]
[21,"Aleix Ingles Elias",0,51.39,null,47.69,null,40.96,null,47.76,null,35.14,null,44,null,41.08,null,40.31,null,43.91,null,41.24,null,47.61,null,49.15,null,52.68,null,49.75,0]
[22,"Mark Redsell",0,38.700000000000003,null,49.1,null,42.55,null,49.7,null,41.58,null,42.17,null,40.24,null,37.14,null,40.39,null,40.44,null,50.65,null,43.25,null,50.18,null,52.06,0]
[23,"Dave Demott",0,60.73,null,51.77,null,48.49,null,49.78,null,41.69,null,49.69,null,45.51,null,50.85,null,51.16,null,48.43,null,53.92,null,63.13,null,58.68,null,50.89,0]
[24,"Stefan Bernardy",0,63.64,null,52.03,null,46.04,null,48.48,null,38.31,null,39.18,null,47.18,null,43.82,null,48.81,null,42.8,null,42.19,null,43.8,null,40.840000000000003,null,50.39,0]
[25,"Maria Freeman",0,57.56,null,50.11,null,62.81,null,51.81,null,0,null,0,null,0,null,0,null,0,null,0,null,0,null,0,null,0,null,0,0]
[26,"Phil Taylor",0,52.75,null,50.41,null,50.47,null,47.46,null,36.18,null,50.24,null,52.9,null,46.13,null,46.06,null,47.83,null,49.21,null,53.66,null,45.38,null,51.43,0]
[27,"Les Wood",0,55.7,null,53.79,null,53.41,null,53.17,null,41.78,null,44.41,null,40.130000000000003,null,46.63,null,47.65,null,38.909999999999997,null,45.98,null,57.95,null,48.17,null,52.4,0]
[28,"Andy Burgoyne",0,48.35,null,47.28,null,54.5,null,49.54,null,40.79,null,0,null,44.41,null,48.42,null,49.02,null,43.81,null,49.65,null,49.17,null,49.19,null,47.76,0]
[29,"Mike Evans",0,48.03,null,48.05,null,45.9,null,54.61,null,42.57,null,41.87,null,44.57,null,45.88,null,38.270000000000003,null,50.69,null,45.57,null,56.04,null,45.22,null,56.64,0]
[30]
[31]
[32]
[33]
[34]
[35]
[36]
[37]
[38]
[39]
[40]
[41]
[42]
[43]
[44]
[45]
[46]
[47]
[48]
[49]
[50]
[51]
[52]
[53]
[54]
[55]
[56]
[57]
[58]
[59]
[60]
[61]
[62]
[63]
[64]
[65]
[66]
[67]
[68]
[69]
[70]
[71]
[72]
[73]
[74]
[75]
[76]
[77]
[78]
[79]
[80]
[81]
[82]
[83]
[84]
[85]
[86]
[87]
[88]
[89]
[90]
[91]
[92]
[93]
[94]
[95]
[96]
[97]
[98]
[99]
["Slowest Time",null,null,{"$f":"IF(NumberOfRoundsFlown(Rawdata)>0,MAX(D3:D101),\"\")","v":{"$error":"#VALUE!"}},null,{"$f":"IF(NumberOfRoundsFlown(Rawdata)>1,MAX(F3:F101),\"\")","v":{"$error":"#VALUE!"}},null,{"$f":"IF(NumberOfRoundsFlown(Rawdata)>2,MAX(H3:H101),\"\")","v":{"$error":"#VALUE!"}},null,{"$f":"IF(NumberOfRoundsFlown(Rawdata)>3,MAX(J3:J101),\"\")","v":{"$error":"#VALUE!"}},null,{"$f":"IF(NumberOfRoundsFlown(Rawdata)>4,MAX(L3:L101),\"\")","v":{"$error":"#VALUE!"}},null,{"$f":"IF(NumberOfRoundsFlown(Rawdata)>5,MAX(N3:N101),\"\")","v":{"$error":"#VALUE!"}},null,{"$f":"IF(NumberOfRoundsFlown(Rawdata)>6,MAX(P3:P101),\"\")","v":{"$error":"#VALUE!"}},null,{"$f":"IF(NumberOfRoundsFlown(Rawdata)>7,MAX(R3:R101),\"\")","v":{"$error":"#VALUE!"}},null,{"$f":"IF(NumberOfRoundsFlown(Rawdata)>8,MAX(T3:T101),\"\")","v":{"$error":"#VALUE!"}},null,{"$f":"IF(NumberOfRoundsFlown(Rawdata)>9,MAX(V3:V101),\"\")","v":{"$error":"#VALUE!"}},null,{"$f":"IF(NumberOfRoundsFlown(Rawdata)>10,MAX(X3:X101),\"\")","v":{"$error":"#VALUE!"}},null,{"$f":"IF(NumberOfRoundsFlown(Rawdata)>11,MAX(Z3:Z101),\"\")","v":{"$error":"#VALUE!"}},null,{"$f":"IF(NumberOfRoundsFlown(Rawdata)>12,MAX(AB3:AB101),\"\")","v":{"$error":"#VALUE!"}},null,{"$f":"IF(NumberOfRoundsFlown(Rawdata)>13,MAX(AD3:AD101),\"\")","v":{"$error":"#VALUE!"}},null,{"$f":"IF(NumberOfRoundsFlown(Rawdata)>14,MAX(AF3:AF101),\"\")","v":{"$error":"#VALUE!"}},null,{"$f":"IF(NumberOfRoundsFlown(Rawdata)>15,MAX(AH3:AH101),\"\")","v":{"$error":"#VALUE!"}},null,{"$f":"IF(NumberOfRoundsFlown(Rawdata)>16,MAX(AJ3:AJ101),\"\")","v":{"$error":"#VALUE!"}},null,{"$f":"IF(NumberOfRoundsFlown(Rawdata)>17,MAX(AL3:AL101),\"\")","v":{"$error":"#VALUE!"}},null,{"$f":"IF(NumberOfRoundsFlown(Rawdata)>18,MAX(AN3:AN101),\"\")","v":{"$error":"#VALUE!"}},null,{"$f":"IF(NumberOfRoundsFlown(Rawdata)>19,MAX(AP3:AP101),\"\")","v":{"$error":"#VALUE!"}}]
["Fastest Time",null,null,{"$f":"IF(NumberOfRoundsFlown(Rawdata)>0,INDEX(FastestTimes,1,1),\"\")","v":{"$error":"#VALUE!"}},null,{"$f":"IF(NumberOfRoundsFlown(Rawdata)>1,INDEX(FastestTimes,1,2),\"\")","v":{"$error":"#VALUE!"}},null,{"$f":"IF(NumberOfRoundsFlown(Rawdata)>2,INDEX(FastestTimes,1,3),\"\")","v":{"$error":"#VALUE!"}},null,{"$f":"IF(NumberOfRoundsFlown(Rawdata)>3,INDEX(FastestTimes,1,4),\"\")","v":{"$error":"#VALUE!"}},null,{"$f":"IF(NumberOfRoundsFlown(Rawdata)>4,INDEX(FastestTimes,1,5),\"\")","v":{"$error":"#VALUE!"}},null,{"$f":"IF(NumberOfRoundsFlown(Rawdata)>5,INDEX(FastestTimes,1,6),\"\")","v":{"$error":"#VALUE!"}},null,{"$f":"IF(NumberOfRoundsFlown(Rawdata)>6,INDEX(FastestTimes,1,7),\"\")","v":{"$error":"#VALUE!"}},null,{"$f":"IF(NumberOfRoundsFlown(Rawdata)>7,INDEX(FastestTimes,1,8),\"\")","v":{"$error":"#VALUE!"}},null,{"$f":"IF(NumberOfRoundsFlown(Rawdata)>8,INDEX(FastestTimes,1,9),\"\")","v":{"$error":"#VALUE!"}},null,{"$f":"IF(NumberOfRoundsFlown(Rawdata)>9,INDEX(FastestTimes,1,10),\"\")","v":{"$error":"#VALUE!"}},null,{"$f":"IF(NumberOfRoundsFlown(Rawdata)>10,INDEX(FastestTimes,1,11),\"\")","v":{"$error":"#VALUE!"}},null,{"$f":"IF(NumberOfRoundsFlown(Rawdata)>11,INDEX(FastestTimes,1,12),\"\")","v":{"$error":"#VALUE!"}},null,{"$f":"IF(NumberOfRoundsFlown(Rawdata)>12,INDEX(FastestTimes,1,13),\"\")","v":{"$error":"#VALUE!"}},null,{"$f":"IF(NumberOfRoundsFlown(Rawdata)>13,INDEX(FastestTimes,1,14),\"\")","v":{"$error":"#VALUE!"}},null,{"$f":"IF(NumberOfRoundsFlown(Rawdata)>14,INDEX(FastestTimes,1,15),\"\")","v":{"$error":"#VALUE!"}},null,{"$f":"IF(NumberOfRoundsFlown(Rawdata)>15,INDEX(FastestTimes,1,16),\"\")","v":{"$error":"#VALUE!"}},null,{"$f":"IF(NumberOfRoundsFlown(Rawdata)>16,INDEX(FastestTimes,1,17),\"\")","v":{"$error":"#VALUE!"}},null,{"$f":"IF(NumberOfRoundsFlown(Rawdata)>17,INDEX(FastestTimes,1,18),\"\")","v":{"$error":"#VALUE!"}},null,{"$f":"IF(NumberOfRoundsFlown(Rawdata)>18,INDEX(FastestTimes,1,19),\"\")","v":{"$error":"#VALUE!"}},null,{"$f":"IF(NumberOfRoundsFlown(Rawdata)>19,INDEX(FastestTimes,1,20),\"\")","v":{"$error":"#VALUE!"}}]
["Average Time",null,null,{"$f":"IF(NumberOfRoundsFlown(Rawdata)>0,SUM(D3:D101)/COUNTIF(D3:D101,\">0\"),\"\")","v":{"$error":"#VALUE!"}},null,{"$f":"IF(NumberOfRoundsFlown(Rawdata)>1,SUM(F3:F101)/COUNTIF(F3:F101,\">0\"),\"\")","v":{"$error":"#VALUE!"}},null,{"$f":"IF(NumberOfRoundsFlown(Rawdata)>2,SUM(H3:H101)/COUNTIF(H3:H101,\">0\"),\"\")","v":{"$error":"#VALUE!"}},null,{"$f":"IF(NumberOfRoundsFlown(Rawdata)>3,SUM(J3:J101)/COUNTIF(J3:J101,\">0\"),\"\")","v":{"$error":"#VALUE!"}},null,{"$f":"IF(NumberOfRoundsFlown(Rawdata)>4,SUM(L3:L101)/COUNTIF(L3:L101,\">0\"),\"\")","v":{"$error":"#VALUE!"}},null,{"$f":"IF(NumberOfRoundsFlown(Rawdata)>5,SUM(N3:N101)/COUNTIF(N3:N101,\">0\"),\"\")","v":{"$error":"#VALUE!"}},null,{"$f":"IF(NumberOfRoundsFlown(Rawdata)>6,SUM(P3:P101)/COUNTIF(P3:P101,\">0\"),\"\")","v":{"$error":"#VALUE!"}},null,{"$f":"IF(NumberOfRoundsFlown(Rawdata)>7,SUM(R3:R101)/COUNTIF(R3:R101,\">0\"),\"\")","v":{"$error":"#VALUE!"}},null,{"$f":"IF(NumberOfRoundsFlown(Rawdata)>8,SUM(T3:T101)/COUNTIF(T3:T101,\">0\"),\"\")","v":{"$error":"#VALUE!"}},null,{"$f":"IF(NumberOfRoundsFlown(Rawdata)>9,SUM(V3:V101)/COUNTIF(V3:V101,\">0\"),\"\")","v":{"$error":"#VALUE!"}},null,{"$f":"IF(NumberOfRoundsFlown(Rawdata)>10,SUM(X3:X101)/COUNTIF(X3:X101,\">0\"),\"\")","v":{"$error":"#VALUE!"}},null,{"$f":"IF(NumberOfRoundsFlown(Rawdata)>11,SUM(Z3:Z101)/COUNTIF(Z3:Z101,\">0\"),\"\")","v":{"$error":"#VALUE!"}},null,{"$f":"IF(NumberOfRoundsFlown(Rawdata)>12,SUM(AB3:AB101)/COUNTIF(AB3:AB101,\">0\"),\"\")","v":{"$error":"#VALUE!"}},null,{"$f":"IF(NumberOfRoundsFlown(Rawdata)>13,SUM(AD3:AD101)/COUNTIF(AD3:AD101,\">0\"),\"\")","v":{"$error":"#VALUE!"}},null,{"$f":"IF(NumberOfRoundsFlown(Rawdata)>14,SUM(AF3:AF101)/COUNTIF(AF3:AF101,\">0\"),\"\")","v":{"$error":"#VALUE!"}},null,{"$f":"IF(NumberOfRoundsFlown(Rawdata)>15,SUM(AH3:AH101)/COUNTIF(AH3:AH101,\">0\"),\"\")","v":{"$error":"#VALUE!"}},null,{"$f":"IF(NumberOfRoundsFlown(Rawdata)>16,SUM(AJ3:AJ101)/COUNTIF(AJ3:AJ101,\">0\"),\"\")","v":{"$error":"#VALUE!"}},null,{"$f":"IF(NumberOfRoundsFlown(Rawdata)>17,SUM(AL3:AL101)/COUNTIF(AL3:AL101,\">0\"),\"\")","v":{"$error":"#VALUE!"}},null,{"$f":"IF(NumberOfRoundsFlown(Rawdata)>18,SUM(AN3:AN101)/COUNTIF(AN3:AN101,\">0\"),\"\")","v":{"$error":"#VALUE!"}},null,{"$f":"IF(NumberOfRoundsFlown(Rawdata)>19,SUM(AP3:AP101)/COUNTIF(AP3:AP101,\">0\"),\"\")","v":{"$error":"#VALUE!"}}]